Workbook

Sheet Sheet1
A1: 2024年成都文理学院大学生艺术鉴赏征文大赛获奖名单
A2: 序号 | B2: 负责人姓名 | C2: 学院 | D2: 学号 | E2: 专业 | F2: 作品名称 | G2: 获奖等级 | H2: 备注
A3: 1 | B3: 庄吉 | C3: 文法学院 | D3: 231010460137 | E3: 中文 | F3: 电视剧《东周列国志·春秋篇》中的影视艺术多元解读——意境之美 | G3: 一等奖
A4: 2 | B4: 申浩鑫 | C4: 马克思主义学院 | D4: 221110150616 | E4: 思想政治教育 | F4: 《禁锢与突围：电影<肖申克的救赎>的艺术解读》 | G4: 一等奖
A5: 3 | B5: 罗小兵 | C5: 数智经济与管理学院 | D5: 223811340435 | E5: 工商管理 | F5: 《现实主义光影下的烟火人间》 | G5: 一等奖
A6: 4 | B6: 杨博文 | C6: 传媒与演艺学院 | D6: 231100450103 | E6: 播音与主持艺术 | F6: 《我爱你！》：让爱照进现实 | G6: 一等奖
A7: 5 | B7: 余悦 | C7: 艺术学院 | D7: 231020650520 | E7: 数字媒体艺术 | F7: 历史、人性与艺术的交响 | G7: 一等奖
A8: 6 | B8: 邱心梅 | C8: 体育与大健康学院 | D8: 231070750604 | E8: 体育教育 | F8: 《放牛班的春天》 | G8: 一等奖
A9: 7 | B9: 刘玉 | C9: 文法学院 | D9: 22101351820 | E9: 汉语言文学 | F9: 电视剧《红高粱》对莫言原著小说的创新与发展 | G9: 一等奖
A10: 8 | B10: 付航宇 | C10: 会计学院 | D10: 223830181327 | E10: 会计学（专升本） | F10: 《肖申克的救赎》 | G10: 一等奖
A11: 9 | B11: 杨炎坤 | C11: 文法学院 | D11: 221010353026 | E11: 汉语言文学 | F11: 不言之爱——电影《姥姥的外孙》主题剖析 | G11: 一等奖
A12: 10 | B12: 杜旭峰 | C12: 马克思主义学院 | D12: 231110150605 | E12: 思想政治教育 | F12: 《影视艺术的多元解读：以电视剧〈如懿传〉为例》 | G12: 一等奖
A13: 11 | B13: 王帅 | C13: 文法学院 | D13: 221010351028 | E13: 汉语言文学 | F13: 《生存还是毁灭——你想活出怎样的人生》 | G13: 一等奖
A14: 12 | B14: 何锐挺 | C14: 文法学院 | D14: 221010350926 | E14: 汉语言文学 | F14: 《透过柏拉图之镜：〈天下无贼〉的哲学光影剖析》 | G14: 一等奖
A15: 13 | B15: 汪雨霖 | C15: 传媒与演艺学院 | D15: 241100450218 | E15: 播音与主持艺术 | F15: 《孤星计划》：悬疑谍战背后的青春热血与信仰之光 | G15: 一等奖
A16: 14 | B16: 胡梦欣 | C16: 传媒与演艺学院 | D16: 221100250609 | E16: 广播电视编导 | F16: 《极具特色的质感视听 浪漫致死的泡影生命》 | G16: 一等奖
A17: 15 | B17: 陈盼 | C17: 数智经济与管理学院 | D17: 223811380406 | E17: 市场营销 | F17: 《被嫌弃的松子的一生》 | G17: 一等奖
A18: 16 | B18: 毛颖娜 | C18: 传媒与演艺学院 | D18: 231100250915 | E18: 表演 | F18: 深度鉴赏《1942》 | G18: 一等奖
A19: 17 | B19: 曾靖诒 | C19: 体育与大健康学院 | D19: 241070350720 | E19: 护理学 | F19: 《狂飙》 | G19: 一等奖
A20: 18 | B20: 柯燕茹 | C20: 会计学院 | D20: 231040350309 | E20: 审计学 | F20: 《受害者与加害者》 | G20: 一等奖
A21: 19 | B21: 李维 | C21: 教育学院 | D21: 221080451024 | E21: 小学教育 | F21: 对《海上钢琴师》的多元艺术解读 | G21: 一等奖
... A34: 32 | B34: 陶心怡 | C34: 体育与大健康学院 | D34: 241070350414 | E34: 护理学 | F34: 《超越命运的奔跑》 | G34: 二等奖
A35: 33 | B35: 李戌伶月 | C35: 会计学院 | D35: 19113140018 | E35: 会计学 | F35: 《淬英雄之心 铸青年精神》 | G35: 二等奖
A36: 34 | B36: 江玉竹 | C36: 文法学院 | D36: 221010352133 | E36: 汉语言文学 | F36: 《春江花月夜》的魅力与影响 | G36: 二等奖
A37: 35 | B37: 宋明雪 | C37: 马克思主义学院 | D37: 231110150230 | E37: 思想政治教育 | F37: 《多元解读影视，领悟女性力量》 | G37: 二等奖
A38: 36 | B38: 宋利山 | C38: 马克思主义学院 | D38: 231110150603 | E38: 思想政治教育 | F38: 《动画电影<雄狮少年>深度鉴赏与分析》 | G38: 二等奖
A39: 37 | B39: 黄雪婷 | C39: 体育与大健康学院 | D39: 241070351417 | E39: 护理学 | F39: 《情书》 | G39: 二等奖
A40: 38 | B40: 刘小溪 | C40: 体育与大健康学院 | D40: 231070350737 | E40: 护理学 | F40: 《邂逅在旋律里的倾城之恋》 | G40: 二等奖
A41: 39 | B41: 刘康塬 | C41: 传媒与演艺学院 | D41: 231100450207 | E41: 播音与主持艺术 | F41: 第七艺术多方面解析 | G41: 二等奖
A42: 40 | B42: 林鸿英 | C42: 外国语学院 | D42: 221050250711 | E42: 英语 | F42: 《战争的恐惧与人性的呐喊》 | G42: 二等奖
A43: 41 | B43: 唐艺 | C43: 文法学院 | D43: 221010351826 | E43: 汉语言文学 | F43: 墨韵江山:《千里江山图》中的艺术与爱国情长 | G43: 二等奖
A44: 42 | B44: 申友益 | C44: 数智经济与管理学院 | D44: 223811340111 | E44: 工商管理 | F44: 《寻梦环游记解读》 | G44: 二等奖
A45: 43 | B45: 何金容 | C45: 文法学院 | D45: 221010351413 | E45: 汉语言文学 | F45: 深度赏析《日光之城》 | G45: 二等奖
A46: 44 | B46: 田冰雪 | C46: 马克思主义学院 | D46: 231110150611 | E46: 思想政治教育 | F46: 翰墨载道，德艺同辉——鉴赏书法中的文化传承与精神滋养 | G46: 二等奖
A47: 45 | B47: 郑妤洁 | C47: 体育与大健康学院 | D47: 231070350131 | E47: 护理学 | F47: 《爱国斗志传四方 深情厚谊谱华章》 | G47: 二等奖
... A115: 113 | B115: 朱国琼 | C115: 数智经济与管理学院 | D115: 223811340303 | E115: 工商管理 | F115: 《人生的火车站》 | G115: 三等奖

Sheet Sheet2
A1: 241021060305 | B1: =VLOOKUP(A1,[1]在校生人数2024!$C$1:$D$65536,2,0) -> 杨婧语
A2: 241020250307 | B2: =VLOOKUP(A2,[1]在校生人数2024!$C$1:$D$65536,2,0) -> 陈阳
A3: 241020150125 | B3: =VLOOKUP(A3,[1]在校生人数2024!$C$1:$D$65536,2,0) -> 李慕雪
A4: 223815400308 | B4: =VLOOKUP(A4,[1]在校生人数2024!$C$1:$D$65536,2,0) -> 杨富强
A5: 223815400233 | B5: =VLOOKUP(A5,[1]在校生人数2024!$C$1:$D$65536,2,0) -> 杨尧钧
A6: 241020350316 | B6: =VLOOKUP(A6,[1]在校生人数2024!$C$1:$D$65536,2,0) -> 刘亚东
A7: 241020350311 | B7: =VLOOKUP(A7,[1]在校生人数2024!$C$1:$D$65536,2,0) -> 陈文棋
A8: 241020350307 | B8: =VLOOKUP(A8,[1]在校生人数2024!$C$1:$D$65536,2,0) -> 杨千惠
A9: 223815400326 | B9: =VLOOKUP(A9,[1]在校生人数2024!$C$1:$D$65536,2,0) -> 周玲莉
A10: 241020860214 | B10: =VLOOKUP(A10,[1]在校生人数2024!$C$1:$D$65536,2,0) -> 于子清
A11: 241020650411 | B11: =VLOOKUP(A11,[1]在校生人数2024!$C$1:$D$65536,2,0) -> 裴婉婷
A12: 241020650110 | B12: =VLOOKUP(A12,[1]在校生人数2024!$C$1:$D$65536,2,0) -> 刘晨烨
... A969: 221110150707 | B969: =VLOOKUP(A969,[1]在校生人数2024!$C$1:$D$65536,2,0) -> 田鲸经

Sheet Sheet3
