Workbook

Sheet 返校考名单
A1: 承担单位 | B1: 年级 | C1: 专业 | D1: 院(系)部 | E1: 行政班级 | F1: 学号 | G1: 姓名 | H1: 考试课程 | I1: 课程环节 | J1: 课程类型 | K1: 学分 | L1: 学年学期 | M1: 报名
A2: 素质教育中心 | B2: 2021 | C2: 大数据与会计(专) | D2: 会计学院 | E2: 2021大数据与会计（专）1 | F2: 201938020241 | G2: 刘卓超 | H2: [080004]军事（含军事理论） | I2: [080004]军事（含军事理论） | J2: 公共课 | K2: 2.0 | L2: 2020-2021学年第一学期 | M2: 已报名
A3: 素质教育中心 | B3: 2021 | C3: 环境艺术设计(专) | D3: 艺术学院 | E3: 2021环境艺术设计（专）3 | F3: 211031060323 | G3: 徐楠茜 | H3: [080004]军事（含军事理论） | I3: [080004]军事（含军事理论） | J3: 公共课 | K3: 2.0 | L3: 2021-2022学年第二学期 | M3: 已报名
A4: 文法学院 | B4: 2021 | C4: 护理（专） | D4: 体育与大健康学院 | E4: 2021护理（专）2 | F4: 211070360225 | G4: 温慧琳 | H4: [102941]大学语文 | I4: [102941]大学语文 | J4: 公共课 | K4: 2.0 | L4: 2022-2023学年第一学期 | M4: 已报名
A5: 数智经济与管理学院 | B5: 2021 | C5: 建设工程管理(专) | D5: 建筑学院 | E5: 2021建设工程管理（专）1 | F5: 211040460105 | G5: 贺明鑫 | H5: [112901]高等数学Ⅰ | I5: [112901]高等数学Ⅰ | J5: 公共课 | K5: 4.0 | L5: 2022-2023学年第一学期 | M5: 已报名
A6: 数智经济与管理学院 | B6: 2021 | C6: 护理（专） | D6: 体育与大健康学院 | E6: 2021护理（专）1 | F6: 211070360117 | G6: 梁钰婷 | H6: [112901]高等数学Ⅰ | I6: [112901]高等数学Ⅰ | J6: 公共课 | K6: 4.0 | L6: 2022-2023学年第一学期 | M6: 已报名
A7: 数智经济与管理学院 | B7: 2021 | C7: 护理（专） | D7: 体育与大健康学院 | E7: 2021护理（专）2 | F7: 211070360225 | G7: 温慧琳 | H7: [112901]高等数学Ⅰ | I7: [112901]高等数学Ⅰ | J7: 公共课 | K7: 4.0 | L7: 2022-2023学年第一学期 | M7: 已报名
A8: 数智经济与管理学院 | B8: 2021 | C8: 护理（专） | D8: 体育与大健康学院 | E8: 2021护理（专）2 | F8: 211070360225 | G8: 温慧琳 | H8: [112902]高等数学Ⅱ | I8: [112902]高等数学Ⅱ | J8: 公共课 | K8: 4.0 | L8: 2022-2023学年第二学期 | M8: 已报名
A9: 马克思主义学院 | B9: 2021 | C9: 动漫设计（专） | D9: 艺术学院 | E9: 2021动漫设计（专）1 | F9: 211030860119 | G9: 欧芯蕊 | H9: [132921]毛泽东思想和中国特色社会主义理论体系概论 | I9: [132921]毛泽东思想和中国特色社会主义理论体系概论 | J9: 公共课 | K9: 2.0 | L9: 2021-2022学年第二学期 | M9: 已报名
A10: 马克思主义学院 | B10: 2021 | C10: 环境艺术设计(专) | D10: 艺术学院 | E10: 2021环境艺术设计（专）4 | F10: 211031060422 | G10: 杨杰 | H10: [132921]毛泽东思想和中国特色社会主义理论体系概论 | I10: [132921]毛泽东思想和中国特色社会主义理论体系概论 | J10: 公共课 | K10: 2.0 | L10: 2021-2022学年第二学期 | M10: 已报名
A11: 马克思主义学院 | B11: 2020 | C11: 表演 | D11: 传媒与演艺学院 | E11: 2020表演7 | F11: 202305010157 | G11: 赵溪林 | H11: [133911]思想道德修养与法律基础 | I11: [133911]思想道德修养与法律基础 | J11: 公共课 | K11: 3.0 | L11: 2020-2021学年第一学期 | M11: 已报名
A12: 马克思主义学院 | B12: 2020 | C12: 播音与主持艺术 | D12: 传媒与演艺学院 | E12: 2020播音与主持艺术12 | F12: 202304010168 | G12: 蒋吉洹 | H12: [133941]毛泽东思想和中国特色社会主义理论体系概论 | I12: [133941]毛泽东思想和中国特色社会主义理论体系概论 | J12: 公共课 | K12: 3.0 | L12: 2021-2022学年第二学期 | M12: 已报名
... A41: 马克思主义学院 | B41: 2020 | C41: 计算机科学与技术 | D41: 人工智能与大数据学院 | E41: 2020计算机科学与技术2 | F41: 202525010109 | G41: 黄丽静 | H41: 形势与政策（综合） | I41: [133912]形势与政策Ⅰ | J41: 公共课 | K41: 1.0 | L41: 2020-2021学年第二学期 | M41: 已报名

Sheet 上课安排
A1: 承担单位 | B1: 专业 | C1: 课程环节 | D1: 学年学期 | E1: 学分 | F1: 人数 | G1: 类别 | H1: 形式（开班/辅导/跟听） | I1: 任课老师 | J1: 上课时间 2月27日-3月4日 | K1: 上课地点（请填线上平台） | L1: 课时量 | M1: 考试形式 | N1: 成绩比例 | O1: 备注 （重修班QQ群号/老师联系方式）
A2: 马克思主义学院 | B2: 公共课 | C2: [133941]毛泽东思想和中国特色社会主义理论体系概论 | D2: 2021-2022学年第二学期 | E2: 3.0 | F2: 2 | G2: 返校重新学习 | H2: 单独辅导 | I2: 杨爱民 | J2: 2月27日-3月4日 | K2: 英华学堂 | L2: 2 | M2: 开卷 | N2: 平时成绩40%，线上考试成绩60% | O2: qq群797525273；电话13508098388
A3: 马克思主义学院 | B3: 公共课 | C3: [133911]思想道德修养与法律基础 | D3: 2020-2021学年第一学期 | E3: 3.0 | F3: 1 | G3: 返校重新学习 | H3: 单独辅导 | I3: 白瑞峰 | J3: 2月27日周四7-8节 | K3: 腾讯会议 | L3: 2 | M3: 开卷 | N3: 平时成绩40%，线上考试成绩60% | O3: QQ群：1032703515；电话：13882009656
A4: 马克思主义学院 | B4: 公共课 | C4: 形势与政策（综合） | D4: 2023-2024学年第二学期 | E4: 1.0 | F4: 5 | G4: 返校重新学习 | H4: 单独辅导 | I4: 陈爽 | J4: 2月27日-3月4日 | K4: 英华学堂 | L4: 1 | M4: 线上开卷 | N4: 平时成绩40%，线上考试成绩60% | O4: qq群1029227381；电话：18381706330
A5: 马克思主义学院 | B5: 公共课 | C5: [132921]毛泽东思想和中国特色社会主义理论体系概论 | D5: 2021-2022学年第二学期 | E5: 2.0 | F5: 2 | G5: 返校重新学习 | H5: 单独辅导 | I5: 杨爱民 | J5: 2月27日-3月4日 | K5: 英华学堂 | L5: 1 | M5: 开卷 | N5: 平时成绩40%，线上考试成绩60% | O5: qq群797525273；电话13508098388
A6: 人工智能与大数据学院 | B6: 公共课 | C6: [172911]计算机基础 | D6: 2021-2022学年第二学期 | E6: 3.0 | F6: 1 | G6: 返校重新学习 | H6: 单独辅导 | I6: 冯焕婷 | J6: 2月27日-3月4日 | K6: 英华学堂 | L6: 2 | M6: 开卷 | N6: 平时成绩50%，期末考试50% | O6: qq：6927422，电话：13880883121
A7: 数智经济与管理学院 | B7: 公共课 | C7: [423909]经济数学Ⅱ | D7: 2020-2021学年第二学期 | E7: 6.0 | F7: 2 | G7: 返校重新学习 | H7: 单独辅导 | I7: 程峰 | J7: 3月3日周一5-8节 | K7: 腾讯会议 | L7: 4 | M7: 开卷 | N7: 平时成绩50%，期末考试50% | O7: 电话：18581979279 QQ群：749604853
A8: 数智经济与管理学院 | B8: 公共课 | C8: [112901]高等数学Ⅰ | D8: 2022-2023学年第一学期 | E8: 4.0 | F8: 3 | G8: 返校重新学习 | H8: 单独辅导 | I8: 夏嫦 | J8: 3月3日周一5-7节 | K8: 腾讯会议 | L8: 3 | M8: 开卷 | N8: 平时成绩50%，期末考试50% | O8: 电话15828259929 qq群837048368
A9: 数智经济与管理学院 | B9: 公共课 | C9: [112902]高等数学Ⅱ | D9: 2022-2023学年第二学期 | E9: 4.0 | F9: 1 | G9: 返校重新学习 | H9: 单独辅导 | I9: 刘小舟 | J9: 3月3日周一5-7节 | K9: 腾讯会议 | L9: 3 | M9: 开卷 | N9: 平时成绩50%，期末考试50% | O9: QQ群：825255849，电话：15882154026
A10: 素质教育中心 | B10: 公共课 | C10: 大学生职业素养与人生规划（综合） | D10: 2022-2023学年第二学期 | E10: 0.5 | F10: 7 | G10: 返校重新学习 | H10: 集体辅导 | I10: 何香 | J10: 3月3日周一 5节 | K10: 腾讯会议 | L10: 1 | M10: 开卷 | N10: 平时成绩60%，期末考试40% | O10: QQ群：763133380；电话：15310843700
A11: 素质教育中心 | B11: 公共课 | C11: [080004]军事（含军事理论） | D11: 2021-2022学年第二学期 | E11: 2.0 | F11: 2 | G11: 返校重新学习 | H11: 单独辅导 | I11: 李丹丹 | J11: 2月28日周五 2节 | K11: 腾讯会议 | L11: 1 | M11: 开卷 | N11: 平时成绩 60%，期末线上考核成绩40% | O11: QQ群：1017982948；电话：18581897424
A12: 体育与大健康学院 | B12: 公共课 | C12: [193955]体育Ⅳ(慢投垒球) | D12: 2021-2022学年第二学期 | E12: 1.0 | F12: 1 | G12: 返校重新学习 | H12: 单独辅导 | I12: 杨兵 | J12: 2月27日周四3-4节（10：20-11：55） | K12: 英华学堂 | L12: 1 | M12: 考查 | N12: 平时40%+考试60% | O12: QQ群：1025155519；电话：18317958848
A13: 体育与大健康学院 | B13: 公共课 | C13: [193911]体育Ⅰ | D13: 2020-2021学年第一学期 | E13: 1.0 | F13: 1 | G13: 返校重新学习 | H13: 单独辅导 | I13: 廖沁雯 | J13: 2月28日周四7—8节 | K13: 英华学堂 | L13: 1 | M13: 考查 | N13: 平时40%+考试60% | O13: QQ群：1026065908；电话13551010362
... A17: 文法学院 | B17: 公共课 | C17: [102941]大学语文 | D17: 2022-2023学年第一学期 | E17: 2.0 | F17: 1 | G17: 返校重新学习 | H17: 单独辅导 | I17: 邵刘钰 | J17: 2月28日周五 第3节（10:20-11:05) | K17: 腾讯会议 | L17: 1 | M17: 开卷 | N17: 平时成绩40%，期末考试60% | O17: qq：103341722；电话17376505383

Sheet 考试安排
A1: 承担单位 | B1: 专业 | C1: 课程环节 | D1: 学年学期 | E1: 人数 | F1: 学分 | G1: 类型 | H1: 考试时间 | I1: 考试地点
A2: 数智经济与管理学院 | B2: 公共课 | C2: [112902]高等数学Ⅱ | D2: 2022-2023学年第二学期 | E2: 4.0 | F2: 1 | G2: 返校考试 | H2: 2025.03.05（周三）09:00-11:00 | I2: A408
A3: 马克思主义学院 | B3: 公共课 | C3: [133941]毛泽东思想和中国特色社会主义理论体系概论 | D3: 2021-2022学年第二学期 | E3: 3.0 | F3: 2 | G3: 返校考试 | H3: 2025.03.05（周三）13:00-15:00 | I3: B401
A4: 马克思主义学院 | B4: 公共课 | C4: [133911]思想道德修养与法律基础 | D4: 2020-2021学年第一学期 | E4: 3.0 | F4: 1 | G4: 返校考试 | H4: 2025.03.05（周三）13:00-15:00 | I4: B401
A5: 马克思主义学院 | B5: 公共课 | C5: [132921]毛泽东思想和中国特色社会主义理论体系概论 | D5: 2021-2022学年第二学期 | E5: 2.0 | F5: 2 | G5: 返校考试 | H5: 2025.03.05（周三）13:00-15:00 | I5: B401
A6: 数智经济与管理学院 | B6: 公共课 | C6: [423909]经济数学Ⅱ | D6: 2020-2021学年第二学期 | E6: 6.0 | F6: 2 | G6: 返校考试 | H6: 2025.03.05（周三）13:00-15:00 | I6: B402
A7: 数智经济与管理学院 | B7: 公共课 | C7: [112901]高等数学Ⅰ | D7: 2022-2023学年第一学期 | E7: 4.0 | F7: 3 | G7: 返校考试 | H7: 2025.03.05（周三）13:00-15:00 | I7: B402
A8: 外国语学院 | B8: 公共课 | C8: 大学外语（英语 艺术本科综合） | D8: 2021-2022学年第二学期 | E8: 3.0 | F8: 3 | G8: 返校考试 | H8: 2025.03.05（周三）13:00-15:00 | I8: B404
A9: 外国语学院 | B9: 公共课 | C9: 大学外语（英语 艺术专科综合） | D9: 2022-2023学年第二学期 | E9: 3.0 | F9: 2 | G9: 返校考试 | H9: 2025.03.05（周三）15:20-17:20 | I9: D407
A10: 素质教育中心 | B10: 公共课 | C10: 大学生职业素养与人生规划（综合） | D10: 2022-2023学年第二学期 | E10: 0.5 | F10: 7 | G10: 返校考试 | H10: 2025.03.05（周三）15:20-17:20 | I10: B403
A11: 文法学院 | B11: 公共课 | C11: [102941]大学语文 | D11: 2022-2023学年第一学期 | E11: 2.0 | F11: 1 | G11: 返校考试 | H11: 2025.03.05（周三）15:20-17:20 | I11: B403
A12: 人工智能与大数据学院 | B12: 公共课 | C12: [172911]计算机基础 | D12: 2021-2022学年第二学期 | E12: 3.0 | F12: 1 | G12: 返校考试 | H12: 2025.03.05（周三）13:00-15:00 | I12: 实验楼102
A13: 马克思主义学院 | B13: 公共课 | C13: 形势与政策（综合） | D13: 2023-2024学年第二学期 | E13: 1.0 | F13: 5 | G13: 返校考试 | H13: 2025年3月5日9:00-3月7日18:00 | I13: 英华学堂
... A17: 体育与大健康学院 | B17: 公共课 | C17: [193956]体育Ⅲ(高尔夫球) | D17: 2021-2022学年第一学期 | E17: 1.0 | F17: 1 | G17: 返校考试 | H17: 请于3月7日前到体育馆101参加考试 | I17: 体育馆101

Sheet 签到册
A1: 学院 | B1: 行政班级 | C1: 学号 | D1: 姓名 | E1: 课程环节 | F1: 类型 | G1: 考试时间 | H1: 考试地点 | I1: 考生签到 | J1: 平时成绩 | K1: 卷面成绩 | L1: 综合成绩 | M1: 阅卷老师
A2: 会计学院 | B2: 2021大数据与会计（专）1 | C2: 201938020241 | D2: 刘卓超 | E2: [080004]军事（含军事理论） | F2: 返校考试 | G2: =VLOOKUP(E2,考试安排!C:H,6,0) -> 2025年3月5日9:00-3月7日18:00 | H2: =VLOOKUP(E2,考试安排!C:I,7,0) -> 英华学堂
A3: 艺术学院 | B3: 2021环境艺术设计（专）3 | C3: 211031060323 | D3: 徐楠茜 | E3: [080004]军事（含军事理论） | F3: 返校考试 | G3: =VLOOKUP(E3,考试安排!C:H,6,0) -> 2025年3月5日9:00-3月7日18:00 | H3: =VLOOKUP(E3,考试安排!C:I,7,0) -> 英华学堂
A4: 体育与大健康学院 | B4: 2021护理（专）2 | C4: 211070360225 | D4: 温慧琳 | E4: [102941]大学语文 | F4: 返校考试 | G4: =VLOOKUP(E4,考试安排!C:H,6,0) -> 2025.03.05（周三）15:20-17:20 | H4: =VLOOKUP(E4,考试安排!C:I,7,0) -> B403
A5: 建筑学院 | B5: 2021建设工程管理（专）1 | C5: 211040460105 | D5: 贺明鑫 | E5: [112901]高等数学Ⅰ | F5: 返校考试 | G5: =VLOOKUP(E5,考试安排!C:H,6,0) -> 2025.03.05（周三）13:00-15:00 | H5: =VLOOKUP(E5,考试安排!C:I,7,0) -> B402
A6: 体育与大健康学院 | B6: 2021护理（专）1 | C6: 211070360117 | D6: 梁钰婷 | E6: [112901]高等数学Ⅰ | F6: 返校考试 | G6: =VLOOKUP(E6,考试安排!C:H,6,0) -> 2025.03.05（周三）13:00-15:00 | H6: =VLOOKUP(E6,考试安排!C:I,7,0) -> B402
A7: 体育与大健康学院 | B7: 2021护理（专）2 | C7: 211070360225 | D7: 温慧琳 | E7: [112901]高等数学Ⅰ | F7: 返校考试 | G7: =VLOOKUP(E7,考试安排!C:H,6,0) -> 2025.03.05（周三）13:00-15:00 | H7: =VLOOKUP(E7,考试安排!C:I,7,0) -> B402
A8: 体育与大健康学院 | B8: 2021护理（专）2 | C8: 211070360225 | D8: 温慧琳 | E8: [112902]高等数学Ⅱ | F8: 返校考试 | G8: =VLOOKUP(E8,考试安排!C:H,6,0) -> 2025.03.05（周三）09:00-11:00 | H8: =VLOOKUP(E8,考试安排!C:I,7,0) -> A408
A9: 艺术学院 | B9: 2021动漫设计（专）1 | C9: 211030860119 | D9: 欧芯蕊 | E9: [132921]毛泽东思想和中国特色社会主义理论体系概论 | F9: 返校考试 | G9: =VLOOKUP(E9,考试安排!C:H,6,0) -> 2025.03.05（周三）13:00-15:00 | H9: =VLOOKUP(E9,考试安排!C:I,7,0) -> B401
A10: 艺术学院 | B10: 2021环境艺术设计（专）4 | C10: 211031060422 | D10: 杨杰 | E10: [132921]毛泽东思想和中国特色社会主义理论体系概论 | F10: 返校考试 | G10: =VLOOKUP(E10,考试安排!C:H,6,0) -> 2025.03.05（周三）13:00-15:00 | H10: =VLOOKUP(E10,考试安排!C:I,7,0) -> B401
A11: 传媒与演艺学院 | B11: 2020表演7 | C11: 202305010157 | D11: 赵溪林 | E11: [133911]思想道德修养与法律基础 | F11: 返校考试 | G11: =VLOOKUP(E11,考试安排!C:H,6,0) -> 2025.03.05（周三）13:00-15:00 | H11: =VLOOKUP(E11,考试安排!C:I,7,0) -> B401
A12: 传媒与演艺学院 | B12: 2020播音与主持艺术12 | C12: 202304010168 | D12: 蒋吉洹 | E12: [133941]毛泽东思想和中国特色社会主义理论体系概论 | F12: 返校考试 | G12: =VLOOKUP(E12,考试安排!C:H,6,0) -> 2025.03.05（周三）13:00-15:00 | H12: =VLOOKUP(E12,考试安排!C:I,7,0) -> B401
A13: 传媒与演艺学院 | B13: 2020表演4 | C13: 202305010188 | D13: 余渝杰 | E13: [133941]毛泽东思想和中国特色社会主义理论体系概论 | F13: 返校考试 | G13: =VLOOKUP(E13,考试安排!C:H,6,0) -> 2025.03.05（周三）13:00-15:00 | H13: =VLOOKUP(E13,考试安排!C:I,7,0) -> B401
... A36: 人工智能与大数据学院 | B36: 2020计算机科学与技术2 | C36: 202525010109 | D36: 黄丽静 | E36: 形势与政策（综合） | F36: 返校考试 | G36: =VLOOKUP(E36,考试安排!C:H,6,0) -> 2025年3月5日9:00-3月7日18:00 | H36: =VLOOKUP(E36,考试安排!C:I,7,0) -> 英华学堂
