Workbook

Sheet 补考、缓考名单
A1: 承担单位 | B1: 院(系)部 | C1: 年级 | D1: 专业 | E1: 行政班级 | F1: 学号 | G1: 姓名 | H1: 课程环节 | I1: 课程类型 | J1: 学分 | K1: 考试类型 | L1: 学年学期 | M1: 备注
A2: 会计学院 | B2: 会计学院 | C2: 2024 | D2: 会计学 | E2: 2024会计学10 | F2: 241040151028 | G2: 王梓鸣 | H2: [30301073]经济数学 | I2: 公共课 | J2: 3.0 | K2: 补考 | L2: 2024-2025学年第一学期 | M2: 已报名
A3: 会计学院 | B3: 会计学院 | C3: 2024 | D3: 会计学 | E3: 2024会计学10 | F3: 241040151029 | G3: 李宇航 | H3: [30301073]经济数学 | I3: 公共课 | J3: 3.0 | K3: 补考 | L3: 2024-2025学年第一学期 | M3: 已报名
A4: 会计学院 | B4: 会计学院 | C4: 2024 | D4: 会计学 | E4: 2024会计学10 | F4: 241040151031 | G4: 廖星隆 | H4: [30301073]经济数学 | I4: 公共课 | J4: 3.0 | K4: 补考 | L4: 2024-2025学年第一学期 | M4: 已报名
A5: 会计学院 | B5: 会计学院 | C5: 2024 | D5: 会计学 | E5: 2024会计学11 | F5: 241040151115 | G5: 蒋若希 | H5: [30301073]经济数学 | I5: 公共课 | J5: 3.0 | K5: 补考 | L5: 2024-2025学年第一学期 | M5: 已报名
A6: 会计学院 | B6: 会计学院 | C6: 2024 | D6: 会计学 | E6: 2024会计学11 | F6: 241040151121 | G6: 李雅熙 | H6: [30301073]经济数学 | I6: 公共课 | J6: 3.0 | K6: 补考 | L6: 2024-2025学年第一学期 | M6: 已报名
A7: 会计学院 | B7: 会计学院 | C7: 2024 | D7: 会计学 | E7: 2024会计学11 | F7: 241040151124 | G7: 曹梦婷 | H7: [30301073]经济数学 | I7: 公共课 | J7: 3.0 | K7: 补考 | L7: 2024-2025学年第一学期 | M7: 已报名
A8: 会计学院 | B8: 会计学院 | C8: 2024 | D8: 会计学 | E8: 2024会计学11 | F8: 241040151125 | G8: 秦浩 | H8: [30301073]经济数学 | I8: 公共课 | J8: 3.0 | K8: 补考 | L8: 2024-2025学年第一学期 | M8: 已报名
A9: 会计学院 | B9: 会计学院 | C9: 2024 | D9: 会计学 | E9: 2024会计学11 | F9: 241040151126 | G9: 黄粤豪 | H9: [30301073]经济数学 | I9: 公共课 | J9: 3.0 | K9: 补考 | L9: 2024-2025学年第一学期 | M9: 已报名
A10: 会计学院 | B10: 会计学院 | C10: 2024 | D10: 会计学 | E10: 2024会计学11 | F10: 241040151127 | G10: 曾文健 | H10: [30301073]经济数学 | I10: 公共课 | J10: 3.0 | K10: 补考 | L10: 2024-2025学年第一学期 | M10: 已报名
A11: 会计学院 | B11: 会计学院 | C11: 2024 | D11: 会计学 | E11: 2024会计学11 | F11: 241040151129 | G11: 吴玮奇 | H11: [30301073]经济数学 | I11: 公共课 | J11: 3.0 | K11: 补考 | L11: 2024-2025学年第一学期 | M11: 已报名
A12: 会计学院 | B12: 会计学院 | C12: 2024 | D12: 会计学 | E12: 2024会计学11 | F12: 241040151130 | G12: 林伟 | H12: [30301073]经济数学 | I12: 公共课 | J12: 3.0 | K12: 补考 | L12: 2024-2025学年第一学期 | M12: 已报名
... A450: 数智经济与管理学院 | B450: 人工智能与大数据学院 | C450: 2023 | D450: 信息安全技术应用(专) | E450: 2023信息安全技术应用(专)1 | F450: 231060660121 | G450: 陈思帆 | H450: [112901]高等数学Ⅰ | I450: 公共课 | J450: 4.0 | K450: 补考 | L450: 2024-2025学年第一学期 | M450: 已报名
A451: 数智经济与管理学院 | B451: 人工智能与大数据学院 | C451: 2023 | D451: 计算机应用技术(专) | E451: 2023计算机应用技术(专)3 | F451: 231060560329 | G451: 罗嘉星 | H451: [112901]高等数学Ⅰ | I451: 公共课 | J451: 4.0 | K451: 补考 | L451: 2024-2025学年第一学期 | M451: 已报名
A452: 数智经济与管理学院 | B452: 人工智能与大数据学院 | C452: 2023 | D452: 计算机应用技术(专) | E452: 2023计算机应用技术(专)1 | F452: 231060560136 | G452: 蒋超凡 | H452: [112901]高等数学Ⅰ | I452: 公共课 | J452: 4.0 | K452: 缓考 | L452: 2024-2025学年第一学期 | M452: 已报名
A453: 数智经济与管理学院 | B453: 数智经济与管理学院 | C453: 2024 | D453: 经济学 | E453: 2024经济学1 | F453: 241030150107 | G453: 牟立根 | H453: [11301039]经济数学I | I453: 公共课 | J453: 4.0 | K453: 补考 | L453: 2024-2025学年第一学期 | M453: 已报名
A454: 数智经济与管理学院 | B454: 数智经济与管理学院 | C454: 2024 | D454: 经济学 | E454: 2024经济学1 | F454: 241030150111 | G454: 蒲健航 | H454: [11301039]经济数学I | I454: 公共课 | J454: 4.0 | K454: 补考 | L454: 2024-2025学年第一学期 | M454: 已报名
A455: 数智经济与管理学院 | B455: 数智经济与管理学院 | C455: 2024 | D455: 经济学 | E455: 2024经济学1 | F455: 241030150114 | G455: 兰微 | H455: [11301039]经济数学I | I455: 公共课 | J455: 4.0 | K455: 补考 | L455: 2024-2025学年第一学期 | M455: 已报名
A456: 数智经济与管理学院 | B456: 数智经济与管理学院 | C456: 2024 | D456: 工商管理 | E456: 2024工商管理1 | F456: 241030350116 | G456: 符峻尘 | H456: [11324020]经济数学Ⅰ | I456: 公共课 | J456: 4.0 | K456: 补考 | L456: 2024-2025学年第一学期 | M456: 已报名
A457: 数智经济与管理学院 | B457: 数智经济与管理学院 | C457: 2024 | D457: 大数据管理与应用 | E457: 2024大数据管理与应用1 | F457: 241031150116 | G457: 鲁绒龙甲 | H457: [11333001]高等数学I | I457: 公共课 | J457: 3.0 | K457: 补考 | L457: 2024-2025学年第一学期 | M457: 已报名
A458: 数智经济与管理学院 | B458: 数智经济与管理学院 | C458: 2024 | D458: 数字经济 | E458: 2024数字经济1 | F458: 241031350104 | G458: 李政 | H458: [11342002]高等数学I | I458: 公共课 | J458: 4.0 | K458: 补考 | L458: 2024-2025学年第一学期 | M458: 已报名
A459: 数智经济与管理学院 | B459: 数智经济与管理学院 | C459: 2024 | D459: 数字经济 | E459: 2024数字经济1 | F459: 241031350107 | G459: 乔宇杰 | H459: [11342002]高等数学I | I459: 公共课 | J459: 4.0 | K459: 补考 | L459: 2024-2025学年第一学期 | M459: 已报名
A460: 数智经济与管理学院 | B460: 数智经济与管理学院 | C460: 2024 | D460: 数字经济 | E460: 2024数字经济1 | F460: 241031350112 | G460: 刘思雨 | H460: [11342002]高等数学I | I460: 公共课 | J460: 4.0 | K460: 补考 | L460: 2024-2025学年第一学期 | M460: 已报名
A461: 数智经济与管理学院 | B461: 数智经济与管理学院 | C461: 2024 | D461: 数字经济 | E461: 2024数字经济1 | F461: 241031350113 | G461: 熊美娜 | H461: [11342002]高等数学I | I461: 公共课 | J461: 4.0 | K461: 补考 | L461: 2024-2025学年第一学期 | M461: 已报名
A462: 数智经济与管理学院 | B462: 数智经济与管理学院 | C462: 2024 | D462: 数字经济 | E462: 2024数字经济1 | F462: 241031350122 | G462: 王芸 | H462: [11342002]高等数学I | I462: 公共课 | J462: 4.0 | K462: 补考 | L462: 2024-2025学年第一学期 | M462: 已报名
A463: 数智经济与管理学院 | B463: 数智经济与管理学院 | C463: 2024 | D463: 数字经济 | E463: 2024数字经济1 | F463: 241031350129 | G463: 刘权涛 | H463: [11342002]高等数学I | I463: 公共课 | J463: 4.0 | K463: 补考 | L463: 2024-2025学年第一学期 | M463: 已报名
... A1997: 文法学院 | B1997: 艺术学院 | C1997: 2023 | D1997: 环境艺术设计(专) | E1997: 2023环境艺术设计(专)3 | F1997: 231020960318 | G1997: 赵焕彤 | H1997: [102941]大学语文 | I1997: 公共课 | J1997: 2.0 | K1997: 缓考 | L1997: 2024-2025学年第一学期 | M1997: 已报名

Sheet 考试安排
A1: 承担单位 | B1: 专业 | C1: 课程环节 | D1: 学年学期 | E1: 人数 | F1: 学分 | G1: 类型 | H1: 考试时间 | I1: 考试地点 | J1: 部门 | K1: 监考老师一 | L1: 部门 | M1: 监考老师二
A2: 外国语学院 | B2: 公共课 | C2: [0802020005]大学英语Ⅲ | D2: 2024-2025学年第一学期 | E2: 2 | F2: 2.0 | G2: 补考、缓考 | H2: 2025.03.04（周二）18:00-20:00 | I2: D408
A3: 外国语学院 | B3: 公共课 | C3: [143939]大学日语Ⅲ | D3: 2024-2025学年第一学期 | E3: 7 | F3: 3.0 | G3: 补考、缓考 | H3: 2025.03.04（周二）18:00-20:00 | I3: D408
A4: 马克思主义学院 | B4: 公共课 | C4: [133913]思想道德与法治 | D4: 2024-2025学年第一学期 | E4: 16 | F4: 3.0 | G4: 补考、缓考 | H4: 2025.03.04（周二）18:00-20:00 | I4: D409
A5: 马克思主义学院 | B5: 公共课 | C5: [132913]思想道德与法治 | D5: 2024-2025学年第一学期 | E5: 55 | F5: 3.0 | G5: 补考、缓考 | H5: 2025.03.04（周二）18:00-20:00 | I5: D404
A6: 马克思主义学院 | B6: 公共课 | C6: [132944]习近平新时代中国特色社会主义思想概论 | D6: 2024-2025学年第一学期 | E6: 72 | F6: 3.0 | G6: 补考、缓考 | H6: 2025.03.04（周二）18:00-20:00 | I6: D402
A7: 数智经济与管理学院 | B7: 公共课 | C7: [11343002]高等数学I | D7: 2024-2025学年第一学期 | E7: 1 | F7: 4.0 | G7: 补考、缓考 | H7: 2025.03.05（周三）13:00-15:00 | I7: D412
A8: 素质教育中心 | B8: 公共课 | C8: [080059]大学生就业指导Ⅰ | D8: 2024-2025学年第一学期 | E8: 15 | F8: 0.5 | G8: 补考、缓考 | H8: 2025.03.05（周三）13:00-15:00 | I8: D412
A9: 数智经济与管理学院 | B9: 公共课 | C9: [11324020]经济数学Ⅰ | D9: 2024-2025学年第一学期 | E9: 1 | F9: 4.0 | G9: 补考、缓考 | H9: 2025.03.05（周三）13:00-15:00 | I9: D412
A10: 马克思主义学院 | B10: 公共课 | C10: [0802020092]习近平新时代中国特色社会主义思想 | D10: 2024-2025学年第一学期 | E10: 2 | F10: 3.0 | G10: 补考、缓考 | H10: 2025.03.05（周三）13:00-15:00 | I10: D412
A11: 会计学院 | B11: 公共课 | C11: [30307065]经济数学 | D11: 2024-2025学年第一学期 | E11: 11 | F11: 3.0 | G11: 补考、缓考 | H11: 2025.03.05（周三）13:00-15:00 | I11: D413
A12: 外国语学院 | B12: 公共课 | C12: [143956]大学俄语Ⅰ | D12: 2024-2025学年第一学期 | E12: 3 | F12: 3.0 | G12: 补考、缓考 | H12: 2025.03.05（周三）13:00-15:00 | I12: D413
A13: 外国语学院 | B13: 公共课 | C13: [143919]大学日语Ⅰ | D13: 2024-2025学年第一学期 | E13: 10 | F13: 3.0 | G13: 补考、缓考 | H13: 2025.03.05（周三）13:00-15:00 | I13: D413
... A42: 素质教育中心 | B42: 公共课 | C42: [080057]军事理论 | D42: 2024-2025学年第一学期 | E42: 76 | F42: 2.0 | G42: 补考、缓考 | H42: 2025年3月4日9:00-3月7日20:00 | I42: 英华学堂
A43: 体育与大健康学院 | B43: 公共课 | C43: [193903]大学生心理健康教育Ⅱ | D43: 2024-2025学年第一学期 | E43: 138 | F43: 1.0 | G43: 补考、缓考 | H43: 2025年3月4日9:00-3月7日20:00 | I43: 英华学堂 | J43: 体育与大健康学院 | K43: 季敏利
A44: 体育与大健康学院 | B44: 公共课 | C44: [192901]大学生健康教育 | D44: 2024-2025学年第一学期 | E44: 204 | F44: 1.0 | G44: 补考、缓考 | H44: 2025年3月4日9:00-3月7日20:00 | I44: 英华学堂 | J44: 体育与大健康学院 | K44: 季敏利
A45: 体育与大健康学院 | B45: 公共课 | C45: [193911]体育Ⅰ | D45: 2024-2025学年第一学期 | E45: 19 | F45: 1.0 | G45: 补考、缓考 | H45: 请于3月5日前，行课时间内到体育馆101参加考试 | I45: 体育馆101 | J45: 体育与大健康学院 | K45: 戴佳期
A46: 体育与大健康学院 | B46: 公共课 | C46: [192911]体育Ⅰ | D46: 2024-2025学年第一学期 | E46: 149 | F46: 1.0 | G46: 补考、缓考 | H46: 请于3月5日前，行课时间内到体育馆101参加考试 | I46: 体育馆101 | J46: 体育与大健康学院 | K46: 范净 | L46: 体育与大健康学院 | M46: 廖沁雯
A47: 体育与大健康学院 | B47: 公共课 | C47: [193933]体育Ⅲ（社交舞） | D47: 2024-2025学年第一学期 | E47: 7 | F47: 1.0 | G47: 补考、缓考 | H47: 请于3月6日前，行课时间内到体育馆101参加考试 | I47: 体育馆101 | J47: 体育与大健康学院 | K47: 李庞宏
A48: 体育与大健康学院 | B48: 公共课 | C48: [193956]体育Ⅲ(高尔夫球) | D48: 2024-2025学年第一学期 | E48: 7 | F48: 1.0 | G48: 补考、缓考 | H48: 请于3月6日前，行课时间内到体育馆101参加考试 | I48: 体育馆101 | J48: 体育与大健康学院 | K48: 王东
A49: 体育与大健康学院 | B49: 公共课 | C49: [193939]体育Ⅲ（跆拳道） | D49: 2024-2025学年第一学期 | E49: 4 | F49: 1.0 | G49: 补考、缓考 | H49: 请于3月6日前，行课时间内到体育馆101参加考试 | I49: 体育馆101 | J49: 体育与大健康学院 | K49: 董皓铧
A50: 体育与大健康学院 | B50: 公共课 | C50: [193959]体育Ⅲ（排球） | D50: 2024-2025学年第一学期 | E50: 9 | F50: 1.0 | G50: 补考、缓考 | H50: 请于3月6日前，行课时间内到体育馆101参加考试 | I50: 体育馆101 | J50: 体育与大健康学院 | K50: 杨天石
A51: 体育与大健康学院 | B51: 公共课 | C51: [193937]体育Ⅲ（保健） | D51: 2024-2025学年第一学期 | E51: 4 | F51: 1.0 | G51: 补考、缓考 | H51: 请于3月6日前，行课时间内到体育馆101参加考试 | I51: 体育馆101 | J51: 体育与大健康学院 | K51: 干丽
A52: 体育与大健康学院 | B52: 公共课 | C52: [193957]体育Ⅲ(慢投垒球) | D52: 2024-2025学年第一学期 | E52: 2 | F52: 1.0 | G52: 补考、缓考 | H52: 请于3月6日前，行课时间内到体育馆101参加考试 | I52: 体育馆101 | J52: 体育与大健康学院 | K52: 杨兵
A53: 体育与大健康学院 | B53: 公共课 | C53: [193936]体育Ⅲ（武术） | D53: 2024-2025学年第一学期 | E53: 3 | F53: 1.0 | G53: 补考、缓考 | H53: 请于3月6日前，行课时间内到体育馆101参加考试 | I53: 体育馆101 | J53: 体育与大健康学院 | K53: 李文虎
A54: 体育与大健康学院 | B54: 公共课 | C54: [193931]体育Ⅲ（篮球） | D54: 2024-2025学年第一学期 | E54: 8 | F54: 1.0 | G54: 补考、缓考 | H54: 请于3月7日前，行课时间内到体育馆101参加考试 | I54: 体育馆101 | J54: 体育与大健康学院 | K54: 张玮
A55: 体育与大健康学院 | B55: 公共课 | C55: [193932]体育Ⅲ（乒乓球） | D55: 2024-2025学年第一学期 | E55: 3 | F55: 1.0 | G55: 补考、缓考 | H55: 请于3月7日前，行课时间内到体育馆101参加考试 | I55: 体育馆101 | J55: 体育与大健康学院 | K55: 刘宇航
A56: 体育与大健康学院 | B56: 公共课 | C56: [0802020009]体育Ⅲ | D56: 2024-2025学年第一学期 | E56: 2 | F56: 1.0 | G56: 补考、缓考 | H56: 请于3月7日前，行课时间内到体育馆101参加考试 | I56: 体育馆101 | J56: 体育与大健康学院 | K56: 刘贇
A57: 体育与大健康学院 | B57: 公共课 | C57: [193928]体育Ⅲ（健身塑形） | D57: 2024-2025学年第一学期 | E57: 2 | F57: 1.0 | G57: 补考、缓考 | H57: 请于3月7日前，行课时间内到体育馆101参加考试 | I57: 体育馆101 | J57: 体育与大健康学院 | K57: 李文冰
A58: 体育与大健康学院 | B58: 公共课 | C58: [192912]体育Ⅰ（保健） | D58: 2024-2025学年第一学期 | E58: 3 | F58: 1.0 | G58: 补考、缓考 | H58: 请于3月7日前，行课时间内到体育馆101参加考试 | I58: 体育馆101 | J58: 体育与大健康学院 | K58: 吴雯雯
A59: 体育与大健康学院 | B59: 公共课 | C59: [193934]体育Ⅲ（网球） | D59: 2024-2025学年第一学期 | E59: 1 | F59: 1.0 | G59: 补考、缓考 | H59: 请于3月7日前，行课时间内到体育馆101参加考试 | I59: 体育馆101 | J59: 体育与大健康学院 | K59: 杨程陈

Sheet 签到册
A1: 学院 | B1: 行政班级 | C1: 学号 | D1: 姓名 | E1: 课程环节 | F1: 类型 | G1: 考试时间 | H1: 地点 | I1: 备注 | J1: 考生签到 | K1: 成绩 | L1: 阅卷老师
A2: 传媒与演艺学院 | B2: 2024播音与主持艺术9 | C2: 241100450925 | D2: 邱思源 | E2: [080038]大学生职业素养与人生规划Ⅰ | F2: 补考 | G2: =VLOOKUP(E2,考试安排!C:H,6,0) -> 2025.03.05（周三）15:20-17:20 | H2: =VLOOKUP(E2,考试安排!C:I,7,0) -> D403
A3: 传媒与演艺学院 | B3: 2024音乐表演(专)1 | C3: 231110760103 | D3: 文诗诩 | E3: [080038]大学生职业素养与人生规划Ⅰ | F3: 补考 | G3: =VLOOKUP(E3,考试安排!C:H,6,0) -> 2025.03.05（周三）15:20-17:20 | H3: =VLOOKUP(E3,考试安排!C:I,7,0) -> D403
A4: 传媒与演艺学院 | B4: 2024音乐表演(专)1 | C4: 231110760110 | D4: 唐旗 | E4: [080038]大学生职业素养与人生规划Ⅰ | F4: 补考 | G4: =VLOOKUP(E4,考试安排!C:H,6,0) -> 2025.03.05（周三）15:20-17:20 | H4: =VLOOKUP(E4,考试安排!C:I,7,0) -> D403
A5: 传媒与演艺学院 | B5: 2024音乐表演(专)1 | C5: 231110760114 | D5: 刘思宏 | E5: [080038]大学生职业素养与人生规划Ⅰ | F5: 补考 | G5: =VLOOKUP(E5,考试安排!C:H,6,0) -> 2025.03.05（周三）15:20-17:20 | H5: =VLOOKUP(E5,考试安排!C:I,7,0) -> D403
A6: 传媒与演艺学院 | B6: 2024音乐表演(专)2 | C6: 221110760214 | D6: 任钰喜 | E6: [080038]大学生职业素养与人生规划Ⅰ | F6: 补考 | G6: =VLOOKUP(E6,考试安排!C:H,6,0) -> 2025.03.05（周三）15:20-17:20 | H6: =VLOOKUP(E6,考试安排!C:I,7,0) -> D403
A7: 传媒与演艺学院 | B7: 2024音乐表演(专)2 | C7: 231110760109 | D7: 张南友 | E7: [080038]大学生职业素养与人生规划Ⅰ | F7: 补考 | G7: =VLOOKUP(E7,考试安排!C:H,6,0) -> 2025.03.05（周三）15:20-17:20 | H7: =VLOOKUP(E7,考试安排!C:I,7,0) -> D403
A8: 传媒与演艺学院 | B8: 2024音乐表演(专)2 | C8: 231110760115 | D8: 陈丽曦 | E8: [080038]大学生职业素养与人生规划Ⅰ | F8: 补考 | G8: =VLOOKUP(E8,考试安排!C:H,6,0) -> 2025.03.05（周三）15:20-17:20 | H8: =VLOOKUP(E8,考试安排!C:I,7,0) -> D403
A9: 传媒与演艺学院 | B9: 2024音乐表演(专)2 | C9: 231110760213 | D9: 彭佳昱 | E9: [080038]大学生职业素养与人生规划Ⅰ | F9: 补考 | G9: =VLOOKUP(E9,考试安排!C:H,6,0) -> 2025.03.05（周三）15:20-17:20 | H9: =VLOOKUP(E9,考试安排!C:I,7,0) -> D403
A10: 传媒与演艺学院 | B10: 2024音乐表演(专)2 | C10: 231110760236 | D10: 王紫贤 | E10: [080038]大学生职业素养与人生规划Ⅰ | F10: 补考 | G10: =VLOOKUP(E10,考试安排!C:H,6,0) -> 2025.03.05（周三）15:20-17:20 | H10: =VLOOKUP(E10,考试安排!C:I,7,0) -> D403
A11: 建筑学院 | B11: 2024建设工程管理(专)2 | C11: 241090460234 | D11: 王良淼 | E11: [080038]大学生职业素养与人生规划Ⅰ | F11: 补考 | G11: =VLOOKUP(E11,考试安排!C:H,6,0) -> 2025.03.05（周三）15:20-17:20 | H11: =VLOOKUP(E11,考试安排!C:I,7,0) -> D403
A12: 建筑学院 | B12: 2024建设工程管理(专)2 | C12: 241090460235 | D12: 赵矩鹏 | E12: [080038]大学生职业素养与人生规划Ⅰ | F12: 补考 | G12: =VLOOKUP(E12,考试安排!C:H,6,0) -> 2025.03.05（周三）15:20-17:20 | H12: =VLOOKUP(E12,考试安排!C:I,7,0) -> D403
A13: 建筑学院 | B13: 2024建设工程管理(专)2 | C13: 241090460236 | D13: 文琛皓 | E13: [080038]大学生职业素养与人生规划Ⅰ | F13: 补考 | G13: =VLOOKUP(E13,考试安排!C:H,6,0) -> 2025.03.05（周三）15:20-17:20 | H13: =VLOOKUP(E13,考试安排!C:I,7,0) -> D403
... A355: 艺术学院 | B355: 2023环境艺术设计(专)3 | C355: 231020960318 | D355: 赵焕彤 | E355: [102941]大学语文 | F355: 缓考 | G355: =VLOOKUP(E355,考试安排!C:H,6,0) -> 2025.03.05（周三）15:20-17:20 | H355: =VLOOKUP(E355,考试安排!C:I,7,0) -> D214
A356: 建筑学院 | B356: 2023建设工程管理(专)1 | C356: 221090460202 | D356: 赵伟杰 | E356: [112901]高等数学Ⅰ | F356: 补考 | G356: =VLOOKUP(E356,考试安排!C:H,6,0) -> 2025.03.05（周三）18:00-20:00 | H356: D401
A357: 建筑学院 | B357: 2023建设工程管理(专)1 | C357: 221090460231 | D357: 李八斤 | E357: [112901]高等数学Ⅰ | F357: 补考 | G357: =VLOOKUP(E357,考试安排!C:H,6,0) -> 2025.03.05（周三）18:00-20:00 | H357: D401
A358: 建筑学院 | B358: 2023建设工程管理(专)1 | C358: 231090460105 | D358: 马俊豪 | E358: [112901]高等数学Ⅰ | F358: 补考 | G358: =VLOOKUP(E358,考试安排!C:H,6,0) -> 2025.03.05（周三）18:00-20:00 | H358: D401
A359: 建筑学院 | B359: 2023建设工程管理(专)1 | C359: 231090460108 | D359: 吉联尔体 | E359: [112901]高等数学Ⅰ | F359: 补考 | G359: =VLOOKUP(E359,考试安排!C:H,6,0) -> 2025.03.05（周三）18:00-20:00 | H359: D401
A360: 建筑学院 | B360: 2023建设工程管理(专)1 | C360: 231090460110 | D360: 张睿涵 | E360: [112901]高等数学Ⅰ | F360: 补考 | G360: =VLOOKUP(E360,考试安排!C:H,6,0) -> 2025.03.05（周三）18:00-20:00 | H360: D401
A361: 建筑学院 | B361: 2023建设工程管理(专)1 | C361: 231090460114 | D361: 刘智恒 | E361: [112901]高等数学Ⅰ | F361: 补考 | G361: =VLOOKUP(E361,考试安排!C:H,6,0) -> 2025.03.05（周三）18:00-20:00 | H361: D401
A362: 建筑学院 | B362: 2023建设工程管理(专)1 | C362: 231090460115 | D362: 彭朗涵 | E362: [112901]高等数学Ⅰ | F362: 补考 | G362: =VLOOKUP(E362,考试安排!C:H,6,0) -> 2025.03.05（周三）18:00-20:00 | H362: D401
A363: 建筑学院 | B363: 2023建设工程管理(专)1 | C363: 231090460116 | D363: 蒋俊屹 | E363: [112901]高等数学Ⅰ | F363: 补考 | G363: =VLOOKUP(E363,考试安排!C:H,6,0) -> 2025.03.05（周三）18:00-20:00 | H363: D401
A364: 建筑学院 | B364: 2023建设工程管理(专)1 | C364: 231090460121 | D364: 周超 | E364: [112901]高等数学Ⅰ | F364: 补考 | G364: =VLOOKUP(E364,考试安排!C:H,6,0) -> 2025.03.05（周三）18:00-20:00 | H364: D401
A365: 建筑学院 | B365: 2023建设工程管理(专)1 | C365: 231090460123 | D365: 张锡伟 | E365: [112901]高等数学Ⅰ | F365: 补考 | G365: =VLOOKUP(E365,考试安排!C:H,6,0) -> 2025.03.05（周三）18:00-20:00 | H365: D401
A366: 建筑学院 | B366: 2023建设工程管理(专)1 | C366: 231090460124 | D366: 刘东平 | E366: [112901]高等数学Ⅰ | F366: 补考 | G366: =VLOOKUP(E366,考试安排!C:H,6,0) -> 2025.03.05（周三）18:00-20:00 | H366: D401
A367: 建筑学院 | B367: 2023建设工程管理(专)1 | C367: 231090460126 | D367: 吴坤财 | E367: [112901]高等数学Ⅰ | F367: 补考 | G367: =VLOOKUP(E367,考试安排!C:H,6,0) -> 2025.03.05（周三）18:00-20:00 | H367: D401
... A590: 体育与大健康学院 | B590: 2023护理(专)6 | C590: 231070460631 | D590: 万欣蕊 | E590: [112901]高等数学Ⅰ | F590: 补考 | G590: =VLOOKUP(E590,考试安排!C:H,6,0) -> 2025.03.05（周三）18:00-20:00 | H590: D214
A591: 数智经济与管理学院 | B591: 2024经济学1 | C591: 241030150107 | D591: 牟立根 | E591: [11301039]经济数学I | F591: 补考 | G591: =VLOOKUP(E591,考试安排!C:H,6,0) -> 2025.03.05（周三）13:00-15:00 | H591: =VLOOKUP(E591,考试安排!C:I,7,0) -> D302
A592: 数智经济与管理学院 | B592: 2024经济学1 | C592: 241030150111 | D592: 蒲健航 | E592: [11301039]经济数学I | F592: 补考 | G592: =VLOOKUP(E592,考试安排!C:H,6,0) -> 2025.03.05（周三）13:00-15:00 | H592: =VLOOKUP(E592,考试安排!C:I,7,0) -> D302
A593: 数智经济与管理学院 | B593: 2024经济学1 | C593: 241030150114 | D593: 兰微 | E593: [11301039]经济数学I | F593: 补考 | G593: =VLOOKUP(E593,考试安排!C:H,6,0) -> 2025.03.05（周三）13:00-15:00 | H593: =VLOOKUP(E593,考试安排!C:I,7,0) -> D302
A594: 数智经济与管理学院 | B594: 2024工商管理1 | C594: 241030350116 | D594: 符峻尘 | E594: [11324020]经济数学Ⅰ | F594: 补考 | G594: =VLOOKUP(E594,考试安排!C:H,6,0) -> 2025.03.05（周三）13:00-15:00 | H594: =VLOOKUP(E594,考试安排!C:I,7,0) -> D412
A595: 数智经济与管理学院 | B595: 2024大数据管理与应用1 | C595: 241031150116 | D595: 鲁绒龙甲 | E595: [11333001]高等数学I | F595: 补考 | G595: =VLOOKUP(E595,考试安排!C:H,6,0) -> 2025.03.05（周三）15:20-17:20 | H595: =VLOOKUP(E595,考试安排!C:I,7,0) -> D401
A596: 数智经济与管理学院 | B596: 2024数字经济1 | C596: 241031350104 | D596: 李政 | E596: [11342002]高等数学I | F596: 补考 | G596: =VLOOKUP(E596,考试安排!C:H,6,0) -> 2025.03.05（周三）13:00-15:00 | H596: =VLOOKUP(E596,考试安排!C:I,7,0) -> D302
A597: 数智经济与管理学院 | B597: 2024数字经济1 | C597: 241031350107 | D597: 乔宇杰 | E597: [11342002]高等数学I | F597: 补考 | G597: =VLOOKUP(E597,考试安排!C:H,6,0) -> 2025.03.05（周三）13:00-15:00 | H597: =VLOOKUP(E597,考试安排!C:I,7,0) -> D302
A598: 数智经济与管理学院 | B598: 2024数字经济1 | C598: 241031350112 | D598: 刘思雨 | E598: [11342002]高等数学I | F598: 补考 | G598: =VLOOKUP(E598,考试安排!C:H,6,0) -> 2025.03.05（周三）13:00-15:00 | H598: =VLOOKUP(E598,考试安排!C:I,7,0) -> D302
A599: 数智经济与管理学院 | B599: 2024数字经济1 | C599: 241031350113 | D599: 熊美娜 | E599: [11342002]高等数学I | F599: 补考 | G599: =VLOOKUP(E599,考试安排!C:H,6,0) -> 2025.03.05（周三）13:00-15:00 | H599: =VLOOKUP(E599,考试安排!C:I,7,0) -> D302
A600: 数智经济与管理学院 | B600: 2024数字经济1 | C600: 241031350122 | D600: 王芸 | E600: [11342002]高等数学I | F600: 补考 | G600: =VLOOKUP(E600,考试安排!C:H,6,0) -> 2025.03.05（周三）13:00-15:00 | H600: =VLOOKUP(E600,考试安排!C:I,7,0) -> D302
A601: 数智经济与管理学院 | B601: 2024数字经济1 | C601: 241031350129 | D601: 刘权涛 | E601: [11342002]高等数学I | F601: 补考 | G601: =VLOOKUP(E601,考试安排!C:H,6,0) -> 2025.03.05（周三）13:00-15:00 | H601: =VLOOKUP(E601,考试安排!C:I,7,0) -> D302
A602: 数智经济与管理学院 | B602: 2024数字经济1 | C602: 241031350132 | D602: 袁艺文 | E602: [11342002]高等数学I | F602: 补考 | G602: =VLOOKUP(E602,考试安排!C:H,6,0) -> 2025.03.05（周三）13:00-15:00 | H602: =VLOOKUP(E602,考试安排!C:I,7,0) -> D302
... A813: 艺术学院 | B813: 2023视觉传达设计1 | C813: 231020250112 | D813: 张悦 | E813: [133951]中国近现代史纲要 | F813: 缓考 | G813: =VLOOKUP(E813,考试安排!C:H,6,0) -> 2025.03.05（周三）15:20-17:20 | H813: =VLOOKUP(E813,考试安排!C:I,7,0) -> D404
A814: 会计学院 | B814: 2024大数据与财务管理(专)1 | C814: 231040460122 | D814: 姜俊宇 | E814: [142913]大学外语Ⅰ（英语 普通专科） | F814: 补考 | G814: =VLOOKUP(E814,考试安排!C:H,6,0) -> 2025.03.05（周三）13:00-15:00 | H814: D401
A815: 会计学院 | B815: 2024大数据与财务管理(专)1 | C815: 231040460131 | D815: 刘懿鋆 | E815: [142913]大学外语Ⅰ（英语 普通专科） | F815: 补考 | G815: =VLOOKUP(E815,考试安排!C:H,6,0) -> 2025.03.05（周三）13:00-15:00 | H815: D401
A816: 会计学院 | B816: 2024大数据与财务管理(专)1 | C816: 241040460107 | D816: 朱恩泉 | E816: [142913]大学外语Ⅰ（英语 普通专科） | F816: 补考 | G816: =VLOOKUP(E816,考试安排!C:H,6,0) -> 2025.03.05（周三）13:00-15:00 | H816: D401
A817: 会计学院 | B817: 2024大数据与财务管理(专)1 | C817: 241040460133 | D817: 李锦南 | E817: [142913]大学外语Ⅰ（英语 普通专科） | F817: 补考 | G817: =VLOOKUP(E817,考试安排!C:H,6,0) -> 2025.03.05（周三）13:00-15:00 | H817: D401
A818: 会计学院 | B818: 2024大数据与财务管理(专)1 | C818: 241040460134 | D818: 邓中禹 | E818: [142913]大学外语Ⅰ（英语 普通专科） | F818: 补考 | G818: =VLOOKUP(E818,考试安排!C:H,6,0) -> 2025.03.05（周三）13:00-15:00 | H818: D401
A819: 会计学院 | B819: 2024大数据与会计(专)1 | C819: 241040560107 | D819: 蒋裕强 | E819: [142913]大学外语Ⅰ（英语 普通专科） | F819: 补考 | G819: =VLOOKUP(E819,考试安排!C:H,6,0) -> 2025.03.05（周三）13:00-15:00 | H819: D401
A820: 会计学院 | B820: 2024大数据与会计(专)1 | C820: 241040560113 | D820: 夏语涵 | E820: [142913]大学外语Ⅰ（英语 普通专科） | F820: 补考 | G820: =VLOOKUP(E820,考试安排!C:H,6,0) -> 2025.03.05（周三）13:00-15:00 | H820: D401
A821: 会计学院 | B821: 2024大数据与会计(专)2 | C821: 231040560102 | D821: 李麦朵 | E821: [142913]大学外语Ⅰ（英语 普通专科） | F821: 补考 | G821: =VLOOKUP(E821,考试安排!C:H,6,0) -> 2025.03.05（周三）13:00-15:00 | H821: D401
A822: 会计学院 | B822: 2024大数据与会计(专)2 | C822: 231040560239 | D822: 王邦楠 | E822: [142913]大学外语Ⅰ（英语 普通专科） | F822: 补考 | G822: =VLOOKUP(E822,考试安排!C:H,6,0) -> 2025.03.05（周三）13:00-15:00 | H822: D401
A823: 会计学院 | B823: 2024大数据与会计(专)2 | C823: 241040560234 | D823: 邓邱祁 | E823: [142913]大学外语Ⅰ（英语 普通专科） | F823: 补考 | G823: =VLOOKUP(E823,考试安排!C:H,6,0) -> 2025.03.05（周三）13:00-15:00 | H823: D401
A824: 会计学院 | B824: 2024大数据与会计(专)4 | C824: 241040560429 | D824: 刘司晨 | E824: [142913]大学外语Ⅰ（英语 普通专科） | F824: 补考 | G824: =VLOOKUP(E824,考试安排!C:H,6,0) -> 2025.03.05（周三）13:00-15:00 | H824: D401
A825: 会计学院 | B825: 2024大数据与会计(专)5 | C825: 231040560313 | D825: 比曲色轨 | E825: [142913]大学外语Ⅰ（英语 普通专科） | F825: 补考 | G825: =VLOOKUP(E825,考试安排!C:H,6,0) -> 2025.03.05（周三）13:00-15:00 | H825: D401
... A982: 文法学院 | B982: 2024中文(专)9 | C982: 241010460930 | D982: 钟磊 | E982: [142913]大学外语Ⅰ（英语 普通专科） | F982: 补考 | G982: =VLOOKUP(E982,考试安排!C:H,6,0) -> 2025.03.05（周三）13:00-15:00 | H982: D403
A983: 传媒与演艺学院 | B983: 2024播音与主持(专)2 | C983: 241110560234 | D983: 杨棕翔 | E983: [142915]大学外语Ⅰ（英语 艺体专科） | F983: 补考 | G983: =VLOOKUP(E983,考试安排!C:H,6,0) -> 2025.03.05（周三）13:00-15:00 | H983: =VLOOKUP(E983,考试安排!C:I,7,0) -> D410
A984: 传媒与演艺学院 | B984: 2024播音与主持(专)3 | C984: 231110560316 | D984: 李河通 | E984: [142915]大学外语Ⅰ（英语 艺体专科） | F984: 补考 | G984: =VLOOKUP(E984,考试安排!C:H,6,0) -> 2025.03.05（周三）13:00-15:00 | H984: =VLOOKUP(E984,考试安排!C:I,7,0) -> D410
A985: 传媒与演艺学院 | B985: 2024播音与主持(专)3 | C985: 241110560310 | D985: 贾睿思 | E985: [142915]大学外语Ⅰ（英语 艺体专科） | F985: 补考 | G985: =VLOOKUP(E985,考试安排!C:H,6,0) -> 2025.03.05（周三）13:00-15:00 | H985: =VLOOKUP(E985,考试安排!C:I,7,0) -> D410
A986: 传媒与演艺学院 | B986: 2024播音与主持(专)3 | C986: 241110560315 | D986: 李晓雨 | E986: [142915]大学外语Ⅰ（英语 艺体专科） | F986: 补考 | G986: =VLOOKUP(E986,考试安排!C:H,6,0) -> 2025.03.05（周三）13:00-15:00 | H986: =VLOOKUP(E986,考试安排!C:I,7,0) -> D410
A987: 传媒与演艺学院 | B987: 2024舞蹈表演(专)1 | C987: 241110660104 | D987: 刘耀文 | E987: [142915]大学外语Ⅰ（英语 艺体专科） | F987: 补考 | G987: =VLOOKUP(E987,考试安排!C:H,6,0) -> 2025.03.05（周三）13:00-15:00 | H987: =VLOOKUP(E987,考试安排!C:I,7,0) -> D410
A988: 传媒与演艺学院 | B988: 2024舞蹈表演(专)1 | C988: 241110660106 | D988: 彭饴洲 | E988: [142915]大学外语Ⅰ（英语 艺体专科） | F988: 补考 | G988: =VLOOKUP(E988,考试安排!C:H,6,0) -> 2025.03.05（周三）13:00-15:00 | H988: =VLOOKUP(E988,考试安排!C:I,7,0) -> D410
A989: 传媒与演艺学院 | B989: 2024音乐表演(专)1 | C989: 231110760103 | D989: 文诗诩 | E989: [142915]大学外语Ⅰ（英语 艺体专科） | F989: 补考 | G989: =VLOOKUP(E989,考试安排!C:H,6,0) -> 2025.03.05（周三）13:00-15:00 | H989: =VLOOKUP(E989,考试安排!C:I,7,0) -> D410
A990: 传媒与演艺学院 | B990: 2024音乐表演(专)1 | C990: 231110760110 | D990: 唐旗 | E990: [142915]大学外语Ⅰ（英语 艺体专科） | F990: 补考 | G990: =VLOOKUP(E990,考试安排!C:H,6,0) -> 2025.03.05（周三）13:00-15:00 | H990: =VLOOKUP(E990,考试安排!C:I,7,0) -> D410
A991: 传媒与演艺学院 | B991: 2024音乐表演(专)1 | C991: 231110760114 | D991: 刘思宏 | E991: [142915]大学外语Ⅰ（英语 艺体专科） | F991: 补考 | G991: =VLOOKUP(E991,考试安排!C:H,6,0) -> 2025.03.05（周三）13:00-15:00 | H991: =VLOOKUP(E991,考试安排!C:I,7,0) -> D410
A992: 传媒与演艺学院 | B992: 2024音乐表演(专)1 | C992: 241110760103 | D992: 李成 | E992: [142915]大学外语Ⅰ（英语 艺体专科） | F992: 补考 | G992: =VLOOKUP(E992,考试安排!C:H,6,0) -> 2025.03.05（周三）13:00-15:00 | H992: =VLOOKUP(E992,考试安排!C:I,7,0) -> D410
A993: 传媒与演艺学院 | B993: 2024音乐表演(专)1 | C993: 241110760105 | D993: 左麟义 | E993: [142915]大学外语Ⅰ（英语 艺体专科） | F993: 补考 | G993: =VLOOKUP(E993,考试安排!C:H,6,0) -> 2025.03.05（周三）13:00-15:00 | H993: =VLOOKUP(E993,考试安排!C:I,7,0) -> D410
A994: 传媒与演艺学院 | B994: 2024音乐表演(专)1 | C994: 241110760113 | D994: 丁钰珊 | E994: [142915]大学外语Ⅰ（英语 艺体专科） | F994: 补考 | G994: =VLOOKUP(E994,考试安排!C:H,6,0) -> 2025.03.05（周三）13:00-15:00 | H994: =VLOOKUP(E994,考试安排!C:I,7,0) -> D410
... A1997: 会计学院 | B1997: 2024审计学5 | C1997: 241040350524 | D1997: 赵鑫 | E1997: [30307065]经济数学 | F1997: 补考 | G1997: =VLOOKUP(E1997,考试安排!C:H,6,0) -> 2025.03.05（周三）13:00-15:00 | H1997: =VLOOKUP(E1997,考试安排!C:I,7,0) -> D413

Sheet 缓考
A1: 承担单位 | B1: 院(系)部 | C1: 年级 | D1: 专业 | E1: 行政班级 | F1: 学号 | G1: 姓名 | H1: 课程环节 | I1: 学分 | J1: 考试类型 | K1: 学年学期 | L1: 平时成绩 | M1: 考试成绩 | N1: 综合成绩 | O1: 阅卷教师
A2: 体育与大健康学院 | B2: 文法学院 | C2: 2024 | D2: 汉语言文学2 | E2: 2024汉语言文学207 | F2: 241010250711 | G2: 蒋罗瑶 | H2: [193911]体育Ⅰ | I2: 1.0 | J2: 缓考 | K2: 2024-2025学年第一学期
A3: 数智经济与管理学院 | B3: 数智经济与管理学院 | C3: 2024 | D3: 经济学 | E3: 2024经济学1 | F3: 241030150102 | G3: 赵正权 | H3: [11301037]政治经济学I | I3: 3.0 | J3: 缓考 | K3: 2024-2025学年第一学期
A4: 外国语学院 | B4: 数智经济与管理学院 | C4: 2024 | D4: 旅游管理(专) | E4: 2024旅游管理(专)1 | F4: 241031560117 | G4: 龙诗瑾 | H4: [142913]大学外语Ⅰ（英语 普通专科） | I4: 3.0 | J4: 缓考 | K4: 2024-2025学年第一学期
A5: 数智经济与管理学院 | B5: 数智经济与管理学院 | C5: 2024 | D5: 旅游管理(专) | E5: 2024旅游管理(专)1 | F5: 241031560117 | G5: 龙诗瑾 | H5: [11228024]酒店管理概论 | I5: 3.0 | J5: 缓考 | K5: 2024-2025学年第一学期
A6: 马克思主义学院 | B6: 数智经济与管理学院 | C6: 2024 | D6: 金融服务与管理(专) | E6: 2024金融服务与管理(专)1 | F6: 241031060125 | G6: 陶婧杰 | H6: [132913]思想道德与法治 | I6: 3.0 | J6: 缓考 | K6: 2024-2025学年第一学期
A7: 数智经济与管理学院 | B7: 数智经济与管理学院 | C7: 2024 | D7: 金融服务与管理(专) | E7: 2024金融服务与管理(专)1 | F7: 241031060125 | G7: 陶婧杰 | H7: [11232017]经济法 | I7: 3.0 | J7: 缓考 | K7: 2024-2025学年第一学期
A8: 数智经济与管理学院 | B8: 数智经济与管理学院 | C8: 2024 | D8: 金融服务与管理(专) | E8: 2024金融服务与管理(专)1 | F8: 241031060125 | G8: 陶婧杰 | H8: [11232015]经济学基础 | I8: 3.0 | J8: 缓考 | K8: 2024-2025学年第一学期
A9: 外国语学院 | B9: 数智经济与管理学院 | C9: 2024 | D9: 金融服务与管理(专) | E9: 2024金融服务与管理(专)1 | F9: 241031060125 | G9: 陶婧杰 | H9: [142913]大学外语Ⅰ（英语 普通专科） | I9: 3.0 | J9: 缓考 | K9: 2024-2025学年第一学期
A10: 数智经济与管理学院 | B10: 数智经济与管理学院 | C10: 2024 | D10: 金融服务与管理(专) | E10: 2024金融服务与管理(专)1 | F10: 241031060125 | G10: 陶婧杰 | H10: [11232016]政治经济学 | I10: 3.0 | J10: 缓考 | K10: 2024-2025学年第一学期
A11: 数智经济与管理学院 | B11: 数智经济与管理学院 | C11: 2024 | D11: 金融服务与管理(专) | E11: 2024金融服务与管理(专)1 | F11: 241031060125 | G11: 陶婧杰 | H11: [11232018]管理学 | I11: 3.0 | J11: 缓考 | K11: 2024-2025学年第一学期
A12: 数智经济与管理学院 | B12: 数智经济与管理学院 | C12: 2024 | D12: 工商管理 | E12: 2024工商管理(专升本)5 | F12: 223811340523 | G12: 王奕涵 | H12: [11324440]物流管理 | I12: 3.0 | J12: 缓考 | K12: 2024-2025学年第一学期
A13: 数智经济与管理学院 | B13: 数智经济与管理学院 | C13: 2024 | D13: 工商管理 | E13: 2024工商管理(专升本)5 | F13: 223811340523 | G13: 王奕涵 | H13: [11324419]人力资源管理 | I13: 3.0 | J13: 缓考 | K13: 2024-2025学年第一学期
... A237: 外国语学院 | B237: 艺术学院 | C237: 2022 | D237: 视觉传达设计 | E237: 2022视觉传达设计4 | F237: 221020250413 | G237: 蔡立琪 | H237: [143970]大学外语Ⅲ（英语 艺体本科） | I237: 3.0 | J237: 缓考 | K237: 2023-2024学年第一学期
A238: 文法学院 | B238: 文法学院 | C238: 2022 | D238: 汉语言文学1 | E238: 2022汉语言文学109 | F238: 221010350930 | G238: 毕欣怡 | H238: [10301102]三笔字实训 | J238: 缓考 | K238: 2022-2023学年第一学期
A239: 文法学院 | B239: 文法学院 | C239: 2022 | D239: 汉语言文学1 | E239: 2022汉语言文学108 | F239: 221010350812 | G239: 黄丽 | H239: [10301102]三笔字实训 | J239: 缓考 | K239: 2022-2023学年第一学期
A240: 数智经济与管理学院 | B240: 体育与大健康学院 | C240: 2023 | D240: 护理（专） | E240: 2023护理(专)3 | F240: 231070460317 | G240: 王蒙颖 | H240: [112901]高等数学Ⅰ | I240: 4.0 | J240: 缓考 | K240: 2024-2025学年第一学期
