Workbook

Sheet 名单
A1: 院(系)部 | B1: 承担单位 | C1: 年级 | D1: 专业 | E1: 行政班级 | F1: 报名 | G1: 学号 | H1: 姓名 | I1: 课程环节 | J1: 学分 | K1: 课程类型 | L1: 学年学期 | M1: 类型 | N1: 报名
A2: 会计学院 | B2: 经济管理学院 | C2: 2021 | D2: 会计学 | E2: 2021会计学1 | F2: 已报名 | G2: 19101695 | H2: 吴仕政 | I2: [423901]经济数学Ⅰ | J2: 6 | K2: 公共课 | L2: 2019-2020学年第一学期 | M2: 重修 | N2: 已报名
A3: 会计学院 | B3: 经济管理学院 | C3: 2021 | D3: 会计学 | E3: 2021会计学1 | F3: 已报名 | G3: 201914010118 | H3: 蒋韵茹 | I3: [423901]经济数学Ⅰ | J3: 6 | K3: 公共课 | L3: 2020-2021学年第一学期 | M3: 重修 | N3: 已报名
A4: 建筑学院 | B4: 经济管理学院 | C4: 2020 | D4: 建筑学 | E4: 2020建筑学2 | F4: 已报名 | G4: 202129010013 | H4: 张敦伦 | I4: [423911]高等数学 | J4: 3 | K4: 公共课 | L4: 2020-2021学年第一学期 | M4: 重修 | N4: 已报名
A5: 文法学院 | B5: 马克思主义学院 | C5: 2021 | D5: 汉语言文学1 | E5: 2021汉语言文学122 | F5: 已报名 | G5: 211020352207 | H5: 何俊 | I5: [133951]中国近现代史纲要 | J5: 3 | K5: 公共课 | L5: 2022-2023学年第一学期 | M5: 重修 | N5: 已报名
A6: 传媒与演艺学院 | B6: 马克思主义学院 | C6: 2021 | D6: 表演 | E6: 2021表演3 | F6: 已报名 | G6: 211050250311 | H6: 李俊熙 | I6: [133951]中国近现代史纲要 | J6: 3 | K6: 公共课 | L6: 2022-2023学年第一学期 | M6: 重修 | N6: 已报名
A7: 传媒与演艺学院 | B7: 马克思主义学院 | C7: 2021 | D7: 表演 | E7: 2021表演6 | F7: 已报名 | G7: 211050250613 | H7: 刘志康 | I7: [133951]中国近现代史纲要 | J7: 3 | K7: 公共课 | L7: 2022-2023学年第一学期 | M7: 重修 | N7: 已报名
A8: 体育与大健康学院 | B8: 马克思主义学院 | C8: 2021 | D8: 运动康复 | E8: 2021运动康复1 | F8: 已报名 | G8: 211070250108 | H8: 黄振森 | I8: [133951]中国近现代史纲要 | J8: 3 | K8: 公共课 | L8: 2022-2023学年第一学期 | M8: 重修 | N8: 已报名
A9: 体育与大健康学院 | B9: 马克思主义学院 | C9: 2021 | D9: 运动康复 | E9: 2021运动康复1 | F9: 已报名 | G9: 211070250120 | H9: 师拥民 | I9: [133951]中国近现代史纲要 | J9: 3 | K9: 公共课 | L9: 2022-2023学年第一学期 | M9: 重修 | N9: 已报名
A10: 传媒与演艺学院 | B10: 马克思主义学院 | C10: 2021 | D10: 视觉传达设计 | E10: 2021视觉传达设计1 | F10: 已报名 | G10: 211030250122 | H10: 王佳怡 | I10: [133951]中国近现代史纲要 | J10: 3 | K10: 公共课 | L10: 2022-2023学年第一学期 | M10: 重修 | N10: 已报名
A11: 传媒与演艺学院 | B11: 素质教育中心 | C11: 2021 | D11: 视觉传达设计 | E11: 2021视觉传达设计1 | F11: 已报名 | G11: 211030250122 | H11: 王佳怡 | I11: [080056]经典选读 | J11: 2 | K11: 公共课 | L11: 2023-2024学年第一学期 | M11: 重修 | N11: 已报名
A12: 会计学院 | B12: 马克思主义学院 | C12: 2021 | D12: 审计学 | E12: 2021审计学1 | F12: 已报名 | G12: 19102368 | H12: 董洋华 | I12: [133922]形势与政策Ⅱ | J12: 1 | K12: 公共课 | L12: 2020-2021学年第一学期 | M12: 重修 | N12: 已报名
A13: 传媒与演艺学院 | B13: 素质教育中心 | C13: 2021 | D13: 播音与主持艺术 | E13: 2021播音与主持艺术9 | F13: 已报名 | G13: 211050450917 | H13: 吴毅晨 | I13: [080059]大学生就业指导Ⅰ | J13: 0.5 | K13: 公共课 | L13: 2023-2024学年第一学期 | M13: 重修 | N13: 已报名
A14: 人工智能与大数据学院 | B14: 素质教育中心 | C14: 2021 | D14: 计算机科学与技术 | E14: 2021计算机科学与技术6 | F14: 已报名 | G14: 211060150614 | H14: 谭鹏 | I14: [080059]大学生就业指导Ⅰ | J14: 0.5 | K14: 公共课 | L14: 2023-2024学年第一学期 | M14: 重修 | N14: 已报名
A15: 文法学院 | B15: 外国语学院 | C15: 2021 | D15: 汉语言文学1 | E15: 2021汉语言文学106 | F15: 已报名 | G15: 19103345 | H15: 华钰露 | I15: [143938]大学外语Ⅲ（英语 普通本科） | J15: 3 | K15: 公共课 | L15: 2022-2023学年第一学期 | M15: 重修 | N15: 已报名
A16: 传媒与演艺学院 | B16: 外国语学院 | C16: 2021 | D16: 表演 | E16: 2021表演11 | F16: 已报名 | G16: 211050251116 | H16: 三温 | I16: [143937]大学外语Ⅲ（英语 艺术本科） | J16: 3 | K16: 公共课 | L16: 2022-2023学年第一学期 | M16: 重修 | N16: 已报名
A17: 传媒与演艺学院 | B17: 外国语学院 | C17: 2021 | D17: 表演 | E17: 2021表演3 | F17: 已报名 | G17: 211050250319 | H17: 吴泽 | I17: [143917]大学外语Ⅰ（英语 艺术本科） | J17: 3 | K17: 公共课 | L17: 2021-2022学年第一学期 | M17: 重修 | N17: 已报名
A18: 传媒与演艺学院 | B18: 外国语学院 | C18: 2021 | D18: 表演 | E18: 2021表演5 | F18: 已报名 | G18: 19100571 | H18: 屈柏宇 | I18: [143934]大学英语Ⅲ（艺术本科） | J18: 3 | K18: 公共课 | L18: 2020-2021学年第一学期 | M18: 重修 | N18: 已报名
A19: 传媒与演艺学院 | B19: 外国语学院 | C19: 2021 | D19: 表演 | E19: 2021表演5 | F19: 已报名 | G19: 211050250520 | H19: 杨溶 | I19: [143917]大学外语Ⅰ（英语 艺术本科） | J19: 3 | K19: 公共课 | L19: 2021-2022学年第一学期 | M19: 重修 | N19: 已报名
A20: 传媒与演艺学院 | B20: 外国语学院 | C20: 2021 | D20: 表演 | E20: 2021表演6 | F20: 已报名 | G20: 211050250602 | H20: 崔孜淼 | I20: [143335]大学外语Ⅲ（韩语 本科） | J20: 3 | K20: 公共课 | L20: 2022-2023学年第一学期 | M20: 重修 | N20: 已报名
A21: 传媒与演艺学院 | B21: 外国语学院 | C21: 2021 | D21: 表演 | E21: 2021表演6 | F21: 已报名 | G21: 211050250613 | H21: 刘志康 | I21: [143919]大学日语Ⅰ | J21: 3 | K21: 公共课 | L21: 2021-2022学年第一学期 | M21: 重修 | N21: 已报名
A22: 传媒与演艺学院 | B22: 外国语学院 | C22: 2021 | D22: 表演 | E22: 2021表演9 | F22: 已报名 | G22: 211050250903 | H22: 陈俊宇 | I22: [143919]大学日语Ⅰ | J22: 3 | K22: 公共课 | L22: 2021-2022学年第一学期 | M22: 重修 | N22: 已报名
A23: 体育与大健康学院 | B23: 外国语学院 | C23: 2021 | D23: 运动康复 | E23: 2021运动康复1 | F23: 已报名 | G23: 211070250129 | H23: 周俊威 | I23: [143937]大学外语Ⅲ（英语 艺术本科） | J23: 3 | K23: 公共课 | L23: 2022-2023学年第一学期 | M23: 重修 | N23: 已报名
A24: 体育与大健康学院 | B24: 外国语学院 | C24: 2021 | D24: 运动康复 | E24: 2021运动康复3 | F24: 已报名 | G24: 211070250319 | H24: 罗梓瑞 | I24: [143937]大学外语Ⅲ（英语 艺术本科） | J24: 3 | K24: 公共课 | L24: 2022-2023学年第一学期 | M24: 重修 | N24: 已报名
A25: 会计学院 | B25: 外国语学院 | C25: 2021 | D25: 审计学 | E25: 2021审计学1 | F25: 已报名 | G25: 19102368 | H25: 董洋华 | I25: [143931]大学英语Ⅲ（一般本科） | J25: 4 | K25: 公共课 | L25: 2020-2021学年第一学期 | M25: 重修 | N25: 已报名
A26: 建筑学院 | B26: 外国语学院 | C26: 2020 | D26: 建筑学 | E26: 2020建筑学1 | F26: 已报名 | G26: 202129010005 | H26: 杨轩轩 | I26: [143936]大学外语Ⅲ（英语 一般本科） | J26: 4 | K26: 公共课 | L26: 2021-2022学年第一学期 | M26: 重修 | N26: 已报名
A27: 建筑学院 | B27: 外国语学院 | C27: 2020 | D27: 建筑学 | E27: 2020建筑学1 | F27: 已报名 | G27: 202129010014 | H27: 温家好 | I27: [143936]大学外语Ⅲ（英语 一般本科） | J27: 4 | K27: 公共课 | L27: 2021-2022学年第一学期 | M27: 重修 | N27: 已报名
A28: 建筑学院 | B28: 外国语学院 | C28: 2020 | D28: 建筑学 | E28: 2020建筑学1 | F28: 已报名 | G28: 202129010017 | H28: 王娟 | I28: [143936]大学外语Ⅲ（英语 一般本科） | J28: 4 | K28: 公共课 | L28: 2021-2022学年第一学期 | M28: 重修 | N28: 已报名
A29: 传媒与演艺学院 | B29: 外国语学院 | C29: 2021 | D29: 视觉传达设计 | E29: 2021视觉传达设计1 | F29: 已报名 | G29: 211030250122 | H29: 王佳怡 | I29: [143917]大学外语Ⅰ（英语 艺术本科） | J29: 3 | K29: 公共课 | L29: 2021-2022学年第一学期 | M29: 重修 | N29: 已报名

Sheet 考试安排
A1: 承担单位 | B1: 年级 | C1: 专业 | D1: 课程环节 | E1: 学期 | F1: 人数 | G1: 学分 | H1: 类型 | I1: 考试时间 | J1: 考试地点 | K1: 备注 | L1: 部门 | M1: 监考老师一 | N1: 部门 | O1: 监考老师二 | P1: 考务
A2: 经济管理学院 | B2: 2021 | C2: 公共课 | D2: [423901]经济数学Ⅰ | E2: 2020-2021学年第一学期 | F2: 2 | G2: 6 | H2: 重新学习 | I2: 2024.10.21(周一）09:00-11:00 | J2: D212
A3: 经济管理学院 | B3: 2020 | C3: 公共课 | D3: [423911]高等数学 | E3: 2020-2021学年第一学期 | F3: 1 | G3: 3 | H3: 重新学习 | I3: 2024.10.21(周一）09:00-11:00 | J3: D212
A4: 外国语学院 | B4: 2021 | C4: 公共课 | D4: [143931]大学英语Ⅲ（一般本科） | E4: 2020-2021学年第一学期 | F4: 1 | G4: 4 | H4: 重新学习 | I4: 2024.10.21(周一）09:00-11:00 | J4: B404
A5: 外国语学院 | B5: 2020 | C5: 公共课 | D5: [143936]大学外语Ⅲ（英语 一般本科） | E5: 2021-2022学年第一学期 | F5: 3 | G5: 4 | H5: 重新学习 | I5: 2024.10.21(周一）09:00-11:00 | J5: B404
A6: 素质教育中心 | B6: 2021 | C6: 公共课 | D6: [080056]经典选读 | E6: 2023-2024学年第一学期 | F6: 1 | G6: 2 | H6: 重新学习 | I6: 2024.10.21(周一）13:00-15:00 | J6: D401
A7: 素质教育中心 | B7: 2021 | C7: 公共课 | D7: [080059]大学生就业指导Ⅰ | E7: 2023-2024学年第一学期 | F7: 2 | G7: 0.5 | H7: 重新学习 | I7: 2024.10.21(周一）13:00-15:00 | J7: D401
A8: 马克思主义学院 | B8: 2021 | C8: 公共课 | D8: [133951]中国近现代史纲要 | E8: 2022-2023学年第一学期 | F8: 6 | G8: 3 | H8: 重新学习 | I8: 2024.10.23(周三）09:00-11:00 | J8: B109
A9: 外国语学院 | B9: 2021 | C9: 公共课 | D9: [143335]大学外语Ⅲ（韩语 本科） | E9: 2022-2023学年第一学期 | F9: 1 | G9: 3 | H9: 重新学习 | I9: 2024.10.23(周三）09:00-11:00 | J9: B109
A10: 外国语学院 | B10: 2021 | C10: 公共课 | D10: [143938]大学外语Ⅲ（英语 普通本科） | E10: 2022-2023学年第一学期 | F10: 1 | G10: 3 | H10: 重新学习 | I10: 2024.10.23(周三）09:00-11:00 | J10: C310
A11: 外国语学院 | B11: 2021 | C11: 公共课 | D11: [143937]大学外语Ⅲ（英语 艺术本科） | E11: 2022-2023学年第一学期 | F11: 3 | G11: 3 | H11: 重新学习 | I11: 2024.10.23(周三）09:00-11:00 | J11: B413
A12: 外国语学院 | B12: 2021 | C12: 公共课 | D12: [143934]大学英语Ⅲ（艺术本科） | E12: 2020-2021学年第一学期 | F12: 1 | G12: 3 | H12: 重新学习 | I12: 2024.10.23(周三）09:00-11:00 | J12: B413
A13: 外国语学院 | B13: 2021 | C13: 公共课 | D13: [143919]大学日语Ⅰ | E13: 2021-2022学年第一学期 | F13: 2 | G13: 3 | H13: 重新学习 | I13: 2024.10.23(周三）13:00-15:00 | J13: D402
... A15: 马克思主义学院 | B15: 2021 | C15: 公共课 | D15: [133922]形势与政策Ⅱ | E15: 2020-2021学年第一学期 | F15: 1 | G15: 1 | H15: 重新学习 | I15: 2024年10月17日09:00-10月17日24日09:00 | J15: 英华在线

Sheet 签到册
A1: 学院 | B1: 行政班级 | C1: 学号 | D1: 姓名 | E1: 课程环节 | F1: 类型 | G1: 考试时间 | H1: 地点 | I1: 备注 | J1: 考生签到 | K1: 平时成绩 | L1: 卷面成绩 | M1: 综合成绩 | N1: 阅卷老师
A2: 会计学院 | B2: 2021会计学1 | C2: 19101695 | D2: 吴仕政 | E2: [423901]经济数学Ⅰ | F2: 重新学习 | G2: =VLOOKUP(E2,考试安排!D:I,6,0) -> 2024.10.21(周一）09:00-11:00 | H2: =VLOOKUP(E2,考试安排!D:J,7,0) -> D212 | I2: =COUNTIFS(C:C,C2,G:G,G2) -> 1
A3: 会计学院 | B3: 2021会计学1 | C3: 201914010118 | D3: 蒋韵茹 | E3: [423901]经济数学Ⅰ | F3: 重新学习 | G3: =VLOOKUP(E3,考试安排!D:I,6,0) -> 2024.10.21(周一）09:00-11:00 | H3: =VLOOKUP(E3,考试安排!D:J,7,0) -> D212 | I3: =COUNTIFS(C:C,C3,G:G,G3) -> 1
A4: 建筑学院 | B4: 2020建筑学2 | C4: 202129010013 | D4: 张敦伦 | E4: [423911]高等数学 | F4: 重新学习 | G4: =VLOOKUP(E4,考试安排!D:I,6,0) -> 2024.10.21(周一）09:00-11:00 | H4: =VLOOKUP(E4,考试安排!D:J,7,0) -> D212 | I4: =COUNTIFS(C:C,C4,G:G,G4) -> 1
A5: 文法学院 | B5: 2021汉语言文学122 | C5: 211020352207 | D5: 何俊 | E5: [133951]中国近现代史纲要 | F5: 重新学习 | G5: =VLOOKUP(E5,考试安排!D:I,6,0) -> 2024.10.23(周三）09:00-11:00 | H5: =VLOOKUP(E5,考试安排!D:J,7,0) -> B109 | I5: =COUNTIFS(C:C,C5,G:G,G5) -> 1
A6: 传媒与演艺学院 | B6: 2021表演3 | C6: 211050250311 | D6: 李俊熙 | E6: [133951]中国近现代史纲要 | F6: 重新学习 | G6: =VLOOKUP(E6,考试安排!D:I,6,0) -> 2024.10.23(周三）09:00-11:00 | H6: =VLOOKUP(E6,考试安排!D:J,7,0) -> B109 | I6: =COUNTIFS(C:C,C6,G:G,G6) -> 1
A7: 传媒与演艺学院 | B7: 2021表演6 | C7: 211050250613 | D7: 刘志康 | E7: [133951]中国近现代史纲要 | F7: 重新学习 | G7: =VLOOKUP(E7,考试安排!D:I,6,0) -> 2024.10.23(周三）09:00-11:00 | H7: =VLOOKUP(E7,考试安排!D:J,7,0) -> B109 | I7: =COUNTIFS(C:C,C7,G:G,G7) -> 1
A8: 体育与大健康学院 | B8: 2021运动康复1 | C8: 211070250108 | D8: 黄振森 | E8: [133951]中国近现代史纲要 | F8: 重新学习 | G8: =VLOOKUP(E8,考试安排!D:I,6,0) -> 2024.10.23(周三）09:00-11:00 | H8: =VLOOKUP(E8,考试安排!D:J,7,0) -> B109 | I8: =COUNTIFS(C:C,C8,G:G,G8) -> 1
A9: 体育与大健康学院 | B9: 2021运动康复1 | C9: 211070250120 | D9: 师拥民 | E9: [133951]中国近现代史纲要 | F9: 重新学习 | G9: =VLOOKUP(E9,考试安排!D:I,6,0) -> 2024.10.23(周三）09:00-11:00 | H9: =VLOOKUP(E9,考试安排!D:J,7,0) -> B109 | I9: =COUNTIFS(C:C,C9,G:G,G9) -> 1
A10: 传媒与演艺学院 | B10: 2021视觉传达设计1 | C10: 211030250122 | D10: 王佳怡 | E10: [133951]中国近现代史纲要 | F10: 重新学习 | G10: =VLOOKUP(E10,考试安排!D:I,6,0) -> 2024.10.23(周三）09:00-11:00 | H10: =VLOOKUP(E10,考试安排!D:J,7,0) -> B109 | I10: =COUNTIFS(C:C,C10,G:G,G10) -> 1
A11: 传媒与演艺学院 | B11: 2021视觉传达设计1 | C11: 211030250122 | D11: 王佳怡 | E11: [080056]经典选读 | F11: 重新学习 | G11: =VLOOKUP(E11,考试安排!D:I,6,0) -> 2024.10.21(周一）13:00-15:00 | H11: =VLOOKUP(E11,考试安排!D:J,7,0) -> D401 | I11: =COUNTIFS(C:C,C11,G:G,G11) -> 1
A12: 会计学院 | B12: 2021审计学1 | C12: 19102368 | D12: 董洋华 | E12: [133922]形势与政策Ⅱ | F12: 重新学习 | G12: =VLOOKUP(E12,考试安排!D:I,6,0) -> 2024年10月17日09:00-10月17日24日09:00 | H12: =VLOOKUP(E12,考试安排!D:J,7,0) -> 英华在线 | I12: =COUNTIFS(C:C,C12,G:G,G12) -> 1
A13: 传媒与演艺学院 | B13: 2021播音与主持艺术9 | C13: 211050450917 | D13: 吴毅晨 | E13: [080059]大学生就业指导Ⅰ | F13: 重新学习 | G13: =VLOOKUP(E13,考试安排!D:I,6,0) -> 2024.10.21(周一）13:00-15:00 | H13: =VLOOKUP(E13,考试安排!D:J,7,0) -> D401 | I13: =COUNTIFS(C:C,C13,G:G,G13) -> 1
A14: 人工智能与大数据学院 | B14: 2021计算机科学与技术6 | C14: 211060150614 | D14: 谭鹏 | E14: [080059]大学生就业指导Ⅰ | F14: 重新学习 | G14: =VLOOKUP(E14,考试安排!D:I,6,0) -> 2024.10.21(周一）13:00-15:00 | H14: =VLOOKUP(E14,考试安排!D:J,7,0) -> D401 | I14: =COUNTIFS(C:C,C14,G:G,G14) -> 1
A15: 文法学院 | B15: 2021汉语言文学106 | C15: 19103345 | D15: 华钰露 | E15: [143938]大学外语Ⅲ（英语 普通本科） | F15: 重新学习 | G15: =VLOOKUP(E15,考试安排!D:I,6,0) -> 2024.10.23(周三）09:00-11:00 | H15: =VLOOKUP(E15,考试安排!D:J,7,0) -> C310 | I15: =COUNTIFS(C:C,C15,G:G,G15) -> 1
A16: 传媒与演艺学院 | B16: 2021表演11 | C16: 211050251116 | D16: 三温 | E16: [143937]大学外语Ⅲ（英语 艺术本科） | F16: 重新学习 | G16: =VLOOKUP(E16,考试安排!D:I,6,0) -> 2024.10.23(周三）09:00-11:00 | H16: =VLOOKUP(E16,考试安排!D:J,7,0) -> B413 | I16: =COUNTIFS(C:C,C16,G:G,G16) -> 1
A17: 传媒与演艺学院 | B17: 2021表演3 | C17: 211050250319 | D17: 吴泽 | E17: [143917]大学外语Ⅰ（英语 艺术本科） | F17: 重新学习 | G17: =VLOOKUP(E17,考试安排!D:I,6,0) -> 2024.10.24(周四）13:00-15:00 | H17: =VLOOKUP(E17,考试安排!D:J,7,0) -> D403 | I17: =COUNTIFS(C:C,C17,G:G,G17) -> 1
A18: 传媒与演艺学院 | B18: 2021表演5 | C18: 19100571 | D18: 屈柏宇 | E18: [143934]大学英语Ⅲ（艺术本科） | F18: 重新学习 | G18: =VLOOKUP(E18,考试安排!D:I,6,0) -> 2024.10.23(周三）09:00-11:00 | H18: =VLOOKUP(E18,考试安排!D:J,7,0) -> B413 | I18: =COUNTIFS(C:C,C18,G:G,G18) -> 1
A19: 传媒与演艺学院 | B19: 2021表演5 | C19: 211050250520 | D19: 杨溶 | E19: [143917]大学外语Ⅰ（英语 艺术本科） | F19: 重新学习 | G19: =VLOOKUP(E19,考试安排!D:I,6,0) -> 2024.10.24(周四）13:00-15:00 | H19: =VLOOKUP(E19,考试安排!D:J,7,0) -> D403 | I19: =COUNTIFS(C:C,C19,G:G,G19) -> 1
A20: 传媒与演艺学院 | B20: 2021表演6 | C20: 211050250602 | D20: 崔孜淼 | E20: [143335]大学外语Ⅲ（韩语 本科） | F20: 重新学习 | G20: =VLOOKUP(E20,考试安排!D:I,6,0) -> 2024.10.23(周三）09:00-11:00 | H20: =VLOOKUP(E20,考试安排!D:J,7,0) -> B109 | I20: =COUNTIFS(C:C,C20,G:G,G20) -> 1
A21: 传媒与演艺学院 | B21: 2021表演6 | C21: 211050250613 | D21: 刘志康 | E21: [143919]大学日语Ⅰ | F21: 重新学习 | G21: =VLOOKUP(E21,考试安排!D:I,6,0) -> 2024.10.23(周三）13:00-15:00 | H21: =VLOOKUP(E21,考试安排!D:J,7,0) -> D402 | I21: =COUNTIFS(C:C,C21,G:G,G21) -> 1
A22: 传媒与演艺学院 | B22: 2021表演9 | C22: 211050250903 | D22: 陈俊宇 | E22: [143919]大学日语Ⅰ | F22: 重新学习 | G22: =VLOOKUP(E22,考试安排!D:I,6,0) -> 2024.10.23(周三）13:00-15:00 | H22: =VLOOKUP(E22,考试安排!D:J,7,0) -> D402 | I22: =COUNTIFS(C:C,C22,G:G,G22) -> 1
A23: 体育与大健康学院 | B23: 2021运动康复1 | C23: 211070250129 | D23: 周俊威 | E23: [143937]大学外语Ⅲ（英语 艺术本科） | F23: 重新学习 | G23: =VLOOKUP(E23,考试安排!D:I,6,0) -> 2024.10.23(周三）09:00-11:00 | H23: =VLOOKUP(E23,考试安排!D:J,7,0) -> B413 | I23: =COUNTIFS(C:C,C23,G:G,G23) -> 1
A24: 体育与大健康学院 | B24: 2021运动康复3 | C24: 211070250319 | D24: 罗梓瑞 | E24: [143937]大学外语Ⅲ（英语 艺术本科） | F24: 重新学习 | G24: =VLOOKUP(E24,考试安排!D:I,6,0) -> 2024.10.23(周三）09:00-11:00 | H24: =VLOOKUP(E24,考试安排!D:J,7,0) -> B413 | I24: =COUNTIFS(C:C,C24,G:G,G24) -> 1
A25: 会计学院 | B25: 2021审计学1 | C25: 19102368 | D25: 董洋华 | E25: [143931]大学英语Ⅲ（一般本科） | F25: 重新学习 | G25: =VLOOKUP(E25,考试安排!D:I,6,0) -> 2024.10.21(周一）09:00-11:00 | H25: =VLOOKUP(E25,考试安排!D:J,7,0) -> B404 | I25: =COUNTIFS(C:C,C25,G:G,G25) -> 1
A26: 建筑学院 | B26: 2020建筑学1 | C26: 202129010005 | D26: 杨轩轩 | E26: [143936]大学外语Ⅲ（英语 一般本科） | F26: 重新学习 | G26: =VLOOKUP(E26,考试安排!D:I,6,0) -> 2024.10.21(周一）09:00-11:00 | H26: =VLOOKUP(E26,考试安排!D:J,7,0) -> B404 | I26: =COUNTIFS(C:C,C26,G:G,G26) -> 1
A27: 建筑学院 | B27: 2020建筑学1 | C27: 202129010014 | D27: 温家好 | E27: [143936]大学外语Ⅲ（英语 一般本科） | F27: 重新学习 | G27: =VLOOKUP(E27,考试安排!D:I,6,0) -> 2024.10.21(周一）09:00-11:00 | H27: =VLOOKUP(E27,考试安排!D:J,7,0) -> B404 | I27: =COUNTIFS(C:C,C27,G:G,G27) -> 1
A28: 建筑学院 | B28: 2020建筑学1 | C28: 202129010017 | D28: 王娟 | E28: [143936]大学外语Ⅲ（英语 一般本科） | F28: 重新学习 | G28: =VLOOKUP(E28,考试安排!D:I,6,0) -> 2024.10.21(周一）09:00-11:00 | H28: =VLOOKUP(E28,考试安排!D:J,7,0) -> B404 | I28: =COUNTIFS(C:C,C28,G:G,G28) -> 1
A29: 传媒与演艺学院 | B29: 2021视觉传达设计1 | C29: 211030250122 | D29: 王佳怡 | E29: [143917]大学外语Ⅰ（英语 艺术本科） | F29: 重新学习 | G29: =VLOOKUP(E29,考试安排!D:I,6,0) -> 2024.10.24(周四）13:00-15:00 | H29: =VLOOKUP(E29,考试安排!D:J,7,0) -> D403 | I29: =COUNTIFS(C:C,C29,G:G,G29) -> 1
