Workbook

Sheet 名单
A1: 承担单位 | B1: 院(系)部 | C1: 年级 | D1: 专业 | E1: 行政班级 | F1: 学号 | G1: 姓名 | H1: 课程环节 | I1: 课程类型 | J1: 学分 | K1: 学年学期 | L1: 报名 | M1: 备注
A2: 马克思主义学院 | B2: 传媒与演艺学院 | C2: 2023 | D2: 播音与主持(专) | E2: 2023播音与主持(专)2 | F2: 221110560128 | G2: 庄燕莎 | H2: [132941]毛泽东思想和中国特色社会主义理论体系概论 | I2: 公共课 | J2: 3.0 | K2: 2022-2023学年第二学期 | L2: 已报名
A3: 人工智能与大数据学院 | B3: 传媒与演艺学院 | C3: 2023 | D3: 播音与主持(专) | E3: 2023播音与主持(专)2 | F3: 221110560128 | G3: 庄燕莎 | H3: [172911]计算机基础 | I3: 公共课 | J3: 3.0 | K3: 2022-2023学年第二学期 | L3: 已报名
A4: 体育与大健康学院 | B4: 传媒与演艺学院 | C4: 2023 | D4: 播音与主持(专) | E4: 2023播音与主持(专)2 | F4: 221110560128 | G4: 庄燕莎 | H4: [192921]体育Ⅱ | I4: 公共课 | J4: 1.0 | K4: 2022-2023学年第二学期 | L4: 已报名
A5: 教育学院 | B5: 文法学院 | C5: 2023 | D5: 汉语言文学1 | E5: 2023汉语言文学104 | F5: 231010350412 | G5: 余宛晏 | H5: [223425]大学生心理健康教育I | I5: 公共课 | J5: 1.0 | K5: 2023-2024学年第二学期 | L5: 已报名
A6: 素质教育中心 | B6: 文法学院 | C6: 2023 | D6: 汉语言文学1 | E6: 2023汉语言文学104 | F6: 231010350412 | G6: 余宛晏 | H6: [080057]军事理论 | I6: 公共课 | J6: 2.0 | K6: 2023-2024学年第二学期 | L6: 已报名
A7: 素质教育中心 | B7: 文法学院 | C7: 2023 | D7: 汉语言文学1 | E7: 2023汉语言文学106 | F7: 231010350609 | G7: 李娜 | H7: [080057]军事理论 | I7: 公共课 | J7: 2.0 | K7: 2023-2024学年第二学期 | L7: 已报名
A8: 外国语学院 | B8: 文法学院 | C8: 2023 | D8: 汉语言文学1 | E8: 2023汉语言文学106 | F8: 231010350609 | G8: 李娜 | H8: [143966]大学外语Ⅱ（英语 普通本科） | I8: 公共课 | J8: 3.0 | K8: 2023-2024学年第二学期 | L8: 已报名
A9: 教育学院 | B9: 文法学院 | C9: 2023 | D9: 汉语言文学1 | E9: 2023汉语言文学106 | F9: 231010350609 | G9: 李娜 | H9: [223425]大学生心理健康教育I | I9: 公共课 | J9: 1.0 | K9: 2023-2024学年第二学期 | L9: 已报名
A10: 教育学院 | B10: 文法学院 | C10: 2023 | D10: 汉语言文学1 | E10: 2023汉语言文学129 | F10: 231010352918 | G10: 祖湘婷 | H10: [223425]大学生心理健康教育I | I10: 公共课 | J10: 1.0 | K10: 2023-2024学年第二学期 | L10: 已报名
A11: 素质教育中心 | B11: 文法学院 | C11: 2023 | D11: 汉语言文学1 | E11: 2023汉语言文学129 | F11: 231010352918 | G11: 祖湘婷 | H11: [080057]军事理论 | I11: 公共课 | J11: 2.0 | K11: 2023-2024学年第二学期 | L11: 已报名
A12: 教育学院 | B12: 文法学院 | C12: 2023 | D12: 汉语言文学1 | E12: 2023汉语言文学130 | F12: 231010353014 | G12: 黄景怡 | H12: [223425]大学生心理健康教育I | I12: 公共课 | J12: 1.0 | K12: 2023-2024学年第二学期 | L12: 已报名
A13: 外国语学院 | B13: 文法学院 | C13: 2023 | D13: 汉语言文学1 | E13: 2023汉语言文学130 | F13: 231010353014 | G13: 黄景怡 | H13: [143966]大学外语Ⅱ（英语 普通本科） | I13: 公共课 | J13: 3.0 | K13: 2023-2024学年第二学期 | L13: 已报名
A14: 素质教育中心 | B14: 文法学院 | C14: 2023 | D14: 汉语言文学1 | E14: 2023汉语言文学130 | F14: 231010353014 | G14: 黄景怡 | H14: [080057]军事理论 | I14: 公共课 | J14: 2.0 | K14: 2023-2024学年第二学期 | L14: 已报名
A15: 外国语学院 | B15: 文法学院 | C15: 2023 | D15: 法学 | E15: 2023法学11 | F15: 231010151101 | G15: 詹涵麟 | H15: [143966]大学外语Ⅱ（英语 普通本科） | I15: 公共课 | J15: 3.0 | K15: 2023-2024学年第二学期 | L15: 已报名
A16: 马克思主义学院 | B16: 文法学院 | C16: 2023 | D16: 法学 | E16: 2023法学11 | F16: 231010151101 | G16: 詹涵麟 | H16: [133921]马克思主义基本原理 | I16: 公共课 | J16: 3.0 | K16: 2023-2024学年第二学期 | L16: 已报名
... A458: 体育与大健康学院 | B458: 人工智能与大数据学院 | C458: 2023 | D458: 数字媒体技术(专) | E458: 2023数字媒体技术(专)1 | F458: 231060860115 | G458: 敬新宇 | H458: [192911]体育Ⅰ | I458: 公共课 | J458: 1.0 | K458: 2023-2024学年第一学期 | L458: 已报名
A459: 体育与大健康学院 | B459: 人工智能与大数据学院 | C459: 2023 | D459: 数字媒体技术(专) | E459: 2023数字媒体技术(专)1 | F459: 231060860116 | G459: 伍峰 | H459: [192911]体育Ⅰ | I459: 公共课 | J459: 1.0 | K459: 2023-2024学年第一学期 | L459: 已报名 | M459: 1
A460: 素质教育中心 | B460: 人工智能与大数据学院 | C460: 2023 | D460: 数字媒体技术(专) | E460: 2023数字媒体技术(专)1 | F460: 231060860116 | G460: 伍峰 | H460: [080040]大学生职业素养与人生规划Ⅱ | I460: 公共课 | J460: 0.5 | K460: 2023-2024学年第二学期 | L460: 已报名 | M460: 1
A461: 马克思主义学院 | B461: 人工智能与大数据学院 | C461: 2023 | D461: 数字媒体技术(专) | E461: 2023数字媒体技术(专)1 | F461: 231060860116 | G461: 伍峰 | H461: [132941]毛泽东思想和中国特色社会主义理论体系概论 | I461: 公共课 | J461: 3.0 | K461: 2023-2024学年第二学期 | L461: 已报名 | M461: 1
A462: 外国语学院 | B462: 人工智能与大数据学院 | C462: 2023 | D462: 数字媒体技术(专) | E462: 2023数字媒体技术(专)1 | F462: 231060860116 | G462: 伍峰 | H462: [142923]大学外语Ⅱ（英语 普通专科） | I462: 公共课 | J462: 3.0 | K462: 2023-2024学年第二学期 | L462: 已报名 | M462: 1
A463: 体育与大健康学院 | B463: 人工智能与大数据学院 | C463: 2023 | D463: 数字媒体技术(专) | E463: 2023数字媒体技术(专)1 | F463: 231060860116 | G463: 伍峰 | H463: [192921]体育Ⅱ | I463: 公共课 | J463: 1.0 | K463: 2023-2024学年第二学期 | L463: 已报名 | M463: 1
A464: 素质教育中心 | B464: 人工智能与大数据学院 | C464: 2023 | D464: 数字媒体技术(专) | E464: 2023数字媒体技术(专)1 | F464: 231060860137 | G464: 朱晨 | H464: [080040]大学生职业素养与人生规划Ⅱ | I464: 公共课 | J464: 0.5 | K464: 2023-2024学年第二学期 | L464: 已报名
A465: 体育与大健康学院 | B465: 人工智能与大数据学院 | C465: 2023 | D465: 数字媒体技术(专) | E465: 2023数字媒体技术(专)1 | F465: 231060860137 | G465: 朱晨 | H465: [192921]体育Ⅱ | I465: 公共课 | J465: 1.0 | K465: 2023-2024学年第二学期 | L465: 已报名
A466: 体育与大健康学院 | B466: 人工智能与大数据学院 | C466: 2023 | D466: 数字媒体技术(专) | E466: 2023数字媒体技术(专)1 | F466: 231060860137 | G466: 朱晨 | H466: [192911]体育Ⅰ | I466: 公共课 | J466: 1.0 | K466: 2023-2024学年第一学期 | L466: 已报名
A467: 素质教育中心 | B467: 人工智能与大数据学院 | C467: 2023 | D467: 数字媒体技术(专) | E467: 2023数字媒体技术(专)2 | F467: 231060860202 | G467: 龙宇航 | H467: [080040]大学生职业素养与人生规划Ⅱ | I467: 公共课 | J467: 0.5 | K467: 2023-2024学年第二学期 | L467: 已报名
A468: 体育与大健康学院 | B468: 人工智能与大数据学院 | C468: 2023 | D468: 数字媒体技术(专) | E468: 2023数字媒体技术(专)2 | F468: 231060860202 | G468: 龙宇航 | H468: [192911]体育Ⅰ | I468: 公共课 | J468: 1.0 | K468: 2023-2024学年第一学期 | L468: 已报名
A469: 外国语学院 | B469: 人工智能与大数据学院 | C469: 2023 | D469: 数字媒体技术(专) | E469: 2023数字媒体技术(专)2 | F469: 231060860205 | G469: 刘鸿宇 | H469: [142923]大学外语Ⅱ（英语 普通专科） | I469: 公共课 | J469: 3.0 | K469: 2023-2024学年第二学期 | L469: 已报名
A470: 素质教育中心 | B470: 人工智能与大数据学院 | C470: 2023 | D470: 数字媒体技术(专) | E470: 2023数字媒体技术(专)2 | F470: 231060860205 | G470: 刘鸿宇 | H470: [080040]大学生职业素养与人生规划Ⅱ | I470: 公共课 | J470: 0.5 | K470: 2023-2024学年第二学期 | L470: 已报名
A471: 马克思主义学院 | B471: 人工智能与大数据学院 | C471: 2023 | D471: 数字媒体技术(专) | E471: 2023数字媒体技术(专)2 | F471: 231060860205 | G471: 刘鸿宇 | H471: [132913]思想道德与法治 | I471: 公共课 | J471: 3.0 | K471: 2023-2024学年第一学期 | L471: 已报名
A472: 马克思主义学院 | B472: 人工智能与大数据学院 | C472: 2023 | D472: 数字媒体技术(专) | E472: 2023数字媒体技术(专)2 | F472: 231060860205 | G472: 刘鸿宇 | H472: [132941]毛泽东思想和中国特色社会主义理论体系概论 | I472: 公共课 | J472: 3.0 | K472: 2023-2024学年第二学期 | L472: 已报名
A473: 素质教育中心 | B473: 人工智能与大数据学院 | C473: 2023 | D473: 数字媒体技术(专) | E473: 2023数字媒体技术(专)2 | F473: 231060860208 | G473: 张统彬 | H473: [080040]大学生职业素养与人生规划Ⅱ | I473: 公共课 | J473: 0.5 | K473: 2023-2024学年第二学期 | L473: 已报名
A474: 体育与大健康学院 | B474: 人工智能与大数据学院 | C474: 2023 | D474: 数字媒体技术(专) | E474: 2023数字媒体技术(专)2 | F474: 231060860208 | G474: 张统彬 | H474: [192911]体育Ⅰ | I474: 公共课 | J474: 1.0 | K474: 2023-2024学年第一学期 | L474: 已报名
A475: 素质教育中心 | B475: 人工智能与大数据学院 | C475: 2023 | D475: 数字媒体技术(专) | E475: 2023数字媒体技术(专)2 | F475: 231060860237 | G475: 廖延玉 | H475: [080057]军事理论 | I475: 公共课 | J475: 2.0 | K475: 2023-2024学年第一学期 | L475: 已报名
... A907: 外国语学院 | B907: 建筑学院 | C907: 2022 | D907: 工程造价 | E907: 2022工程造价3 | F907: 221090350327 | G907: 金启航 | H907: [143980]大学外语Ⅳ（英语 普通本科） | I907: 公共课 | J907: 3.0 | K907: 2023-2024学年第二学期 | L907: 已报名

Sheet 公共课考试安排
A1: 承担单位 | B1: 专业 | C1: 课程环节 | D1: 学年学期 | E1: 人数 | F1: 学分 | G1: 类型 | H1: 考试时间 | I1: 考试地点 | J1: 备注
A2: 外国语学院 | B2: 公共课 | C2: [142923]大学外语Ⅱ（英语 普通专科） | D2: 2023-2024学年第二学期 | E2: 57 | F2: 3.0 | G2: 警示考试 | H2: 2024.09.11（周三）09:00-11:00 | I2: D402
A3: 外国语学院 | B3: 公共课 | C3: [140159]大学英语(一般本科)Ⅱ | D3: 2014-2015学年第二学期 | E3: 1 | F3: 4.0 | G3: 警示考试 | H3: 2024.09.11（周三）09:00-11:00 | I3: D405
A4: 马克思主义学院 | B4: 公共课 | C4: [133921]马克思主义基本原理 | D4: 2023-2024学年第二学期 | E4: 36 | F4: 3.0 | G4: 警示考试 | H4: 2024.09.11（周三）09:00-11:00 | I4: D403
A5: 素质教育中心 | B5: 公共课 | C5: [080038]大学生职业素养与人生规划Ⅰ | D5: 2023-2024学年第一学期 | E5: 10 | F5: 0.5 | G5: 警示考试 | H5: 2024.09.11（周三）09:00-11:00 | I5: D404
A6: 素质教育中心 | B6: 公共课 | C6: [080044]大学生职业素养与人生规划Ⅳ | D6: 2023-2024学年第二学期 | E6: 3 | F6: 0.5 | G6: 警示考试 | H6: 2024.09.11（周三）09:00-11:00 | I6: D404
A7: 经济管理学院 | B7: 公共课 | C7: [11301039]经济数学I | D7: 2023-2024学年第一学期 | E7: 5 | F7: 4.0 | G7: 警示考试 | H7: 2024.09.11（周三）09:00-11:00 | I7: D406
A8: 会计学院 | B8: 公共课 | C8: [30301016]经济数学Ⅱ | D8: 2023-2024学年第二学期 | E8: 2 | F8: 3.0 | G8: 警示考试 | H8: 2024.09.11（周三）09:00-11:00 | I8: D406
A9: 会计学院 | B9: 公共课 | C9: [30307034]经济数学Ⅰ | D9: 2023-2024学年第一学期 | E9: 1 | F9: 2.0 | G9: 警示考试 | H9: 2024.09.11（周三）09:00-11:00 | I9: D406
A10: 人工智能与大数据学院 | B10: 公共课 | C10: [17301031]经济数学Ⅰ | D10: 2022-2023学年第一学期 | E10: 1 | F10: 3.0 | G10: 警示考试 | H10: 2024.09.11（周三）09:00-11:00 | I10: D406
A11: 人工智能与大数据学院 | B11: 公共课 | C11: [17322016]高等数学II | D11: 2022-2023学年第二学期 | E11: 4 | F11: 3.0 | G11: 警示考试 | H11: 2024.09.11（周三）09:00-11:00 | I11: D412
A12: 人工智能与大数据学院 | B12: 公共课 | C12: [17323016]高等数学II | D12: 2023-2024学年第二学期 | E12: 2 | F12: 3.0 | G12: 警示考试 | H12: 2024.09.11（周三）09:00-11:00 | I12: D412
A13: 人工智能与大数据学院 | B13: 公共课 | C13: [17323030]高等数学I | D13: 2022-2023学年第一学期 | E13: 2 | F13: 3.0 | G13: 警示考试 | H13: 2024.09.11（周三）09:00-11:00 | I13: D412
... A63: 体育与大健康学院 | B63: 公共课 | C63: [193955]体育Ⅳ（慢投垒球） | D63: 2023-2024学年第二学期 | E63: 1 | F63: 1.0 | G63: 警示考试 | H63: 考生须于9月13日前联系任课老师杨兵18317958848参加考试 | I63: 体育馆

Sheet 签到册
A1: 行政班级 | B1: 学号 | C1: 姓名 | D1: 课程环节 | E1: 类型 | F1: 考试时间 | G1: 地点 | H1: 备注 | I1: 考生签到 | J1: 成绩 | K1: 阅卷老师
A2: 2023电子商务(专)1 | B2: 221060960151 | C2: 陈芓言 | D2: [080038]大学生职业素养与人生规划Ⅰ | E2: 警示考试 | F2: =VLOOKUP(D2,公共课考试安排!C:H,6,0) -> 2024.09.11（周三）09:00-11:00 | G2: =VLOOKUP(D2,公共课考试安排!C:I,7,0) -> D404 | H2: =COUNTIFS(B:B,B2,F:F,F2) -> 1
A3: 2023音乐表演(专)1 | B3: 231110760104 | C3: 康卓 | D3: [080038]大学生职业素养与人生规划Ⅰ | E3: 警示考试 | F3: =VLOOKUP(D3,公共课考试安排!C:H,6,0) -> 2024.09.11（周三）09:00-11:00 | G3: =VLOOKUP(D3,公共课考试安排!C:I,7,0) -> D404 | H3: =COUNTIFS(B:B,B3,F:F,F3) -> 1
A4: 2023播音与主持(专)3 | B4: 221110560106 | C4: 刘建川 | D4: [080038]大学生职业素养与人生规划Ⅰ | E4: 警示考试 | F4: =VLOOKUP(D4,公共课考试安排!C:H,6,0) -> 2024.09.11（周三）09:00-11:00 | G4: =VLOOKUP(D4,公共课考试安排!C:I,7,0) -> D404 | H4: =COUNTIFS(B:B,B4,F:F,F4) -> 1
A5: 2023播音与主持(专)3 | B5: 231110560307 | C5: 马淞浩 | D5: [080038]大学生职业素养与人生规划Ⅰ | E5: 警示考试 | F5: =VLOOKUP(D5,公共课考试安排!C:H,6,0) -> 2024.09.11（周三）09:00-11:00 | G5: =VLOOKUP(D5,公共课考试安排!C:I,7,0) -> D404 | H5: =COUNTIFS(B:B,B5,F:F,F5) -> 1
A6: 2023音乐表演(专)2 | B6: 231110760217 | C6: 马钰雯 | D6: [080038]大学生职业素养与人生规划Ⅰ | E6: 警示考试 | F6: =VLOOKUP(D6,公共课考试安排!C:H,6,0) -> 2024.09.11（周三）09:00-11:00 | G6: =VLOOKUP(D6,公共课考试安排!C:I,7,0) -> D404 | H6: =COUNTIFS(B:B,B6,F:F,F6) -> 1
A7: 2023大数据与会计(专)2 | B7: 231040560239 | C7: 王邦楠 | D7: [080038]大学生职业素养与人生规划Ⅰ | E7: 警示考试 | F7: =VLOOKUP(D7,公共课考试安排!C:H,6,0) -> 2024.09.11（周三）09:00-11:00 | G7: =VLOOKUP(D7,公共课考试安排!C:I,7,0) -> D404 | H7: =COUNTIFS(B:B,B7,F:F,F7) -> 1
A8: 2023播音与主持艺术1 | B8: 231100450127 | C8: 王怡萌 | D8: [080038]大学生职业素养与人生规划Ⅰ | E8: 警示考试 | F8: =VLOOKUP(D8,公共课考试安排!C:H,6,0) -> 2024.09.11（周三）09:00-11:00 | G8: =VLOOKUP(D8,公共课考试安排!C:I,7,0) -> D404 | H8: =COUNTIFS(B:B,B8,F:F,F8) -> 1
A9: 2023音乐表演(专)1 | B9: 231110760103 | C9: 文诗诩 | D9: [080038]大学生职业素养与人生规划Ⅰ | E9: 警示考试 | F9: =VLOOKUP(D9,公共课考试安排!C:H,6,0) -> 2024.09.11（周三）09:00-11:00 | G9: =VLOOKUP(D9,公共课考试安排!C:I,7,0) -> D404 | H9: =COUNTIFS(B:B,B9,F:F,F9) -> 1
A10: 2023音乐表演(专)2 | B10: 231110760212 | C10: 张桐 | D10: [080038]大学生职业素养与人生规划Ⅰ | E10: 警示考试 | F10: =VLOOKUP(D10,公共课考试安排!C:H,6,0) -> 2024.09.11（周三）09:00-11:00 | G10: =VLOOKUP(D10,公共课考试安排!C:I,7,0) -> D404 | H10: =COUNTIFS(B:B,B10,F:F,F10) -> 1
A11: 2023数字媒体技术(专)4 | B11: 231060860402 | C11: 赵贤柱 | D11: [080038]大学生职业素养与人生规划Ⅰ | E11: 警示考试 | F11: =VLOOKUP(D11,公共课考试安排!C:H,6,0) -> 2024.09.11（周三）09:00-11:00 | G11: =VLOOKUP(D11,公共课考试安排!C:I,7,0) -> D404 | H11: =COUNTIFS(B:B,B11,F:F,F11) -> 1
A12: 2023大数据与会计(专)3 | B12: 231040560313 | C12: 比曲色轨 | D12: [080040]大学生职业素养与人生规划Ⅱ | E12: 警示考试 | F12: =VLOOKUP(D12,公共课考试安排!C:H,6,0) -> 2024.09.11（周三）18:00-20:00 | G12: =VLOOKUP(D12,公共课考试安排!C:I,7,0) -> D302 | H12: =COUNTIFS(B:B,B12,F:F,F12) -> 1
A13: 2023摄影3 | B13: 231020750329 | C13: 常月馨 | D13: [080040]大学生职业素养与人生规划Ⅱ | E13: 警示考试 | F13: =VLOOKUP(D13,公共课考试安排!C:H,6,0) -> 2024.09.11（周三）18:00-20:00 | G13: =VLOOKUP(D13,公共课考试安排!C:I,7,0) -> D302 | H13: =COUNTIFS(B:B,B13,F:F,F13) -> 1
... A907: 2023建设工程管理(专)2 | B907: 231090460231 | C907: 朱志豪 | D907: [192911]体育Ⅰ | E907: 警示考试 | F907: =VLOOKUP(D907,公共课考试安排!C:H,6,0) -> 考生须于9月11日15:30-17:05 联系任课老师李文虎15708473003参加考试 | G907: =VLOOKUP(D907,公共课考试安排!C:I,7,0) -> 体育馆 | H907: =COUNTIFS(B:B,B907,F:F,F907) -> 1
