Workbook

Sheet 名单
A1: 院(系)部 | B1: 承担单位 | C1: 年级 | D1: 专业 | E1: 行政班级 | F1: 学号 | G1: 姓名 | H1: 课程环节 | I1: 课程类型 | J1: 学分 | K1: 学年学期 | L1: 报名
A2: 建筑学院 | B2: 经济管理学院 | C2: 2019 | D2: 风景园林 | E2: 2019风景园林1 | F2: 19105356 | G2: 王进 | H2: [423911]高等数学 | I2: 公共课 | J2: 3.0 | K2: 2019-2020学年第一学期 | L2: 已报名
A3: 教育学院 | B3: 经济管理学院 | C3: 2019 | D3: 应用心理学 | E3: 2019应用心理学1 | F3: 19101391 | G3: 褚珊珊 | H3: [423902]高等数学Ⅰ | I3: 公共课 | J3: 6.0 | K3: 2019-2020学年第一学期 | L3: 已报名
A4: 信息工程学院 | B4: 经济管理学院 | C4: 2020 | D4: 数字媒体应用技术(专) | E4: 2020数字媒体应用技术（专）2 | F4: 202543020028 | G4: 李堃 | H4: [422901]高等数学Ⅰ | I4: 公共课 | J4: 6.0 | K4: 2020-2021学年第一学期 | L4: 已报名
A5: 信息工程学院 | B5: 经济管理学院 | C5: 2020 | D5: 数字媒体应用技术(专) | E5: 2020数字媒体应用技术（专）2 | F5: 202543020028 | G5: 李堃 | H5: [422904]高等数学 | I5: 公共课 | J5: 3.0 | K5: 2020-2021学年第二学期 | L5: 已报名
A6: 教育学院 | B6: 马克思主义学院 | C6: 2019 | D6: 应用心理学 | E6: 2019应用心理学1 | F6: 19106520 | G6: 何胜男 | H6: [133922]形势与政策Ⅱ | I6: 公共课 | J6: 1.0 | K6: 2020-2021学年第一学期 | L6: 已报名
A7: 信息工程学院 | B7: 马克思主义学院 | C7: 2020 | D7: 电子商务(专) | E7: 2020电子商务（专）1 | F7: 201817186143 | G7: 汤绪 | H7: [135932]形势与政策Ⅲ | I7: 公共课 | J7: 0.5 | K7: 2021-2022学年第一学期 | L7: 已报名
A8: 信息工程学院 | B8: 马克思主义学院 | C8: 2020 | D8: 数字媒体应用技术(专) | E8: 2020数字媒体应用技术（专）2 | F8: 202543020028 | G8: 李堃 | H8: [135932]形势与政策Ⅲ | I8: 公共课 | J8: 0.5 | K8: 2021-2022学年第一学期 | L8: 已报名
A9: 信息工程学院 | B9: 马克思主义学院 | C9: 2020 | D9: 数字媒体应用技术(专) | E9: 2020数字媒体应用技术（专）2 | F9: 202543020034 | G9: 江昊远 | H9: [135932]形势与政策Ⅲ | I9: 公共课 | J9: 0.5 | K9: 2021-2022学年第一学期 | L9: 已报名
A10: 传媒与演艺学院 | B10: 素质教育中心 | C10: 2019 | D10: 播音与主持艺术 | E10: 2019播音与主持艺术4 | F10: 19100986 | G10: 杨汭霖 | H10: [080038]大学生职业素养与人生规划Ⅰ | I10: 公共课 | J10: 0.5 | K10: 2019-2020学年第一学期 | L10: 已报名
A11: 传媒与演艺学院 | B11: 素质教育中心 | C11: 2019 | D11: 播音与主持艺术 | E11: 2019播音与主持艺术4 | F11: 19101192 | G11: 郭吉康 | H11: [080038]大学生职业素养与人生规划Ⅰ | I11: 公共课 | J11: 0.5 | K11: 2019-2020学年第一学期 | L11: 已报名
A12: 信息工程学院 | B12: 体育与医护学院 | C12: 2020 | D12: 电子商务(专) | E12: 2020电子商务（专）1 | F12: 202542020053 | G12: 朱俊 | H12: [192911]体育Ⅰ | I12: 公共课 | J12: 1.0 | K12: 2020-2021学年第一学期 | L12: 已报名
... A17: 教育学院 | B17: 文法学院 | C17: 2020 | D17: 学前教育(专) | E17: 2020学前教育（专）6 | F17: 19208896 | G17: 布次木机 | H17: [102941]大学语文 | I17: 公共课 | J17: 2.0 | K17: 2021-2022学年第一学期 | L17: 已报名

Sheet 返校上课安排
A1: 承担单位 | B1: 年级 | C1: 课程环节 | D1: 学年学期 | E1: 人数 | F1: 学分 | G1: 类别 | H1: 形式（开班/辅导/跟听） | I1: 任课老师 | J1: 上课时间（3月4-8日） | K1: 上课地点 | L1: 课时量 | M1: 考试形式 | N1: 成绩比例 | O1: 备注 （重修班QQ群号、老师联系方式）
A2: 经济管理学院 | B2: 2019 | C2: [423902]高等数学Ⅰ | D2: 2019-2020学年第一学期 | E2: 1 | F2: 6.0 | G2: 公共课 | H2: 单独辅导（线上） | I2: 宋建军 | J2: 2024/3/7 5-8节 | K2: 腾讯会议：912-7825-2558 | L2: 4 | M2: 开卷考试 | N2: 平时成绩40% 笔试60% | O2: QQ:243772076 老师联系方式：18702877397
A3: 经济管理学院 | B3: 2020 | C3: [422901]高等数学Ⅰ | D3: 2020-2021学年第一学期 | E3: 1 | F3: 6.0 | G3: 公共课 | H3: 单独辅导（线上） | I3: 袁丽娟 | J3: 2024/3/7 5-8节 | K3: 腾讯会议：577-665-2371 | L3: 4 | M3: 开卷考试 | N3: 平时成绩40% 笔试60% | O3: QQ：2696942038 老师联系方式：18382276036
A4: 经济管理学院 | B4: 2020 | C4: [422904]高等数学 | D4: 2020-2021学年第二学期 | E4: 1 | F4: 3.0 | G4: 公共课 | H4: 单独辅导（线上） | I4: 宋建军 | J4: 2024/3/8 9-10节 | K4: 腾讯会议：912-7825-2558 | L4: 2 | M4: 开卷考试 | N4: 平时成绩40% 笔试60% | O4: QQ:243772076 老师联系方式：18702877397
A5: 经济管理学院 | B5: 2019 | C5: [423911]高等数学 | D5: 2019-2020学年第一学期 | E5: 1 | F5: 3.0 | G5: 公共课 | H5: 单独辅导（线上） | I5: 吴莉华 | J5: 2024/3/7 9-10节 | K5: 腾讯会议：6949357787 | L5: 2 | M5: 开卷考试 | N5: 平时成绩40% 笔试60% | O5: 群号：111694325 老师联系方式：13699663503
A6: 马克思主义学院 | B6: 2019 | C6: [133922]形势与政策Ⅱ | D6: 2020-2021学年第一学期 | E6: 1 | F6: 1.0 | G6: 公共课 | H6: 单独辅导（线上） | I6: 陈丽萍 | J6: 3月4-8日 | K6: 英华学堂 | L6: 1 | M6: 开卷考试 | N6: 平时成绩40% 期末成绩60% | O6: 群号：307225685 老师联系方式：15882169607
A7: 马克思主义学院 | B7: 2020 | C7: [135932]形势与政策Ⅲ | D7: 2021-2022学年第一学期 | E7: 3 | F7: 0.5 | G7: 公共课 | H7: 单独辅导（线上） | I7: 陈丽萍 | J7: 3月4-8日 | K7: 英华学堂 | L7: 1 | M7: 开卷考试 | N7: 平时成绩40% 期末成绩60% | O7: 群号：307225685 老师联系方式：15882169607
A8: 素质教育中心 | B8: 2019 | C8: [080038]大学生职业素养与人生规划Ⅰ | D8: 2019-2020学年第一学期 | E8: 2 | F8: 0.5 | G8: 公共课 | H8: 单独辅导（线上） | I8: 何香 | J8: 2024/3/5 7-8节 | K8: 腾讯会议：883-904-254 | L8: 1 | M8: 开卷考试 | N8: 平时成绩60% 笔试40% | O8: qq：1036007705 老师联系方式：15310843700
A9: 外国语学院 | B9: 2019 | C9: [143941]大学英语Ⅳ（一般本科） | D9: 2020-2021学年第二学期 | E9: 1 | F9: 4.0 | G9: 公共课 | H9: 单独辅导（线上） | I9: 李芍 | J9: 2024/3/4 2-4节 | K9: 腾讯会议：743-599-9947 | L9: 3 | M9: 开卷考试 | N9: 平时成绩50% 笔试50% | O9: 群号:577429834 老师联系方式: 13880954296
A10: 外国语学院 | B10: 2020 | C10: 大学外语（英语 普通专科）（综合） | D10: 2021-2022学年第二学期 | E10: 3 | F10: 3.0 | G10: 公共课 | H10: 单独辅导（线上） | I10: 黄卫 | J10: 2024/3/6 5-6 | K10: 腾讯会议：640-491-5368 | L10: 2 | M10: 开卷考试 | N10: 平时成绩50% 笔试50% | O10: 群号：622259847 老师联系方式：15882099968
A11: 文法学院 | B11: 2020 | C11: [102941]大学语文 | D11: 2021-2022学年第一学期 | E11: 1 | F11: 2.0 | G11: 公共课 | H11: 单独辅导（线上） | I11: 邵刘钰 | J11: 2024/3/5 9-10节 | K11: 腾讯会议：995-799-454 | L11: 1 | M11: 开卷考试 | N11: 平时成绩40% 笔试60% | O11: qq：103341722 老师联系方式：17376505383
A12: 体育与医护学院 | B12: 2020 | C12: [192911]体育Ⅰ | D12: 2020-2021学年第一学期 | E12: 1 | F12: 1.0 | G12: 公共课 | H12: 单独辅导（线上） | I12: 文林 | J12: 2023/3/5 9-10节 | K12: 腾讯会议：933-610-616 | L12: 1 | M12: 实践考核 | N12: 平时成绩40% 期末技评60% | O12: QQ:1773032220 老师联系方式：17760631557

Sheet 返校考试安排
A1: 承担单位 | B1: 课程环节 | C1: 学年学期 | D1: 人数 | E1: 学分 | F1: 类型 | G1: 考试时间 | H1: 考试地点 | I1: 备注 | J1: 部门 | K1: 监考老师一 | L1: 部门 | M1: 监考老师二 | N1: 考务
A2: 经济管理学院 | B2: [422901]高等数学Ⅰ | C2: 2020-2021学年第一学期 | D2: 1 | E2: 6.0 | F2: 毕业生返校重新学习考试 | G2: 2024.03.11（周一）09:00-11:00 | H2: D301
A3: 外国语学院 | B3: 大学外语（英语 普通专科）（综合） | C3: 2021-2022学年第二学期 | D3: 1 | E3: 3.0 | F3: 毕业生返校重新学习考试 | G3: 2024.03.11（周一）13:00-15:00 | H3: D406
A4: 经济管理学院 | B4: [422904]高等数学 | C4: 2020-2021学年第二学期 | D4: 1 | E4: 3.0 | F4: 毕业生返校重新学习考试 | G4: 2024.03.11（周一）15:20-17:20 | H4: D402
A5: 经济管理学院 | B5: [423902]高等数学Ⅰ | C5: 2019-2020学年第一学期 | D5: 1 | E5: 6.0 | F5: 毕业生返校重新学习考试 | G5: 2024.03.08（周五）13:00-15:00 | H5: D404
A6: 经济管理学院 | B6: [423911]高等数学 | C6: 2019-2020学年第一学期 | D6: 1 | E6: 3.0 | F6: 毕业生返校重新学习考试 | G6: 2024.03.08（周五）13:00-15:00 | H6: D404
A7: 素质教育中心 | B7: [080038]大学生职业素养与人生规划Ⅰ | C7: 2019-2020学年第一学期 | D7: 2 | E7: 0.5 | F7: 毕业生返校重新学习考试 | G7: 2024.03.08（周五）13:00-15:00 | H7: D407
A8: 文法学院 | B8: [102941]大学语文 | C8: 2021-2022学年第一学期 | D8: 1 | E8: 2.0 | F8: 毕业生返校重新学习考试 | G8: 2024.03.08（周五）13:00-15:00 | H8: D407
A9: 外国语学院 | B9: [143941]大学英语Ⅳ（一般本科） | C9: 2020-2021学年第二学期 | D9: 1 | E9: 4.0 | F9: 毕业生返校重新学习考试 | G9: 2024.03.08（周五）13:00-15:00 | H9: D413
A10: 马克思主义学院 | B10: [133922]形势与政策Ⅱ | C10: 2020-2021学年第一学期 | D10: 1 | E10: 1.0 | F10: 毕业生返校重新学习考试 | G10: 2024.03.09（周六）18:00-20:00 | H10: 英华在线
A11: 马克思主义学院 | B11: [135932]形势与政策Ⅲ | C11: 2021-2022学年第一学期 | D11: 3 | E11: 0.5 | F11: 毕业生返校重新学习考试 | G11: 2024.03.09（周六）18:00-20:00 | H11: 英华在线
A12: 体育与医护学院 | B12: [192911]体育Ⅰ | C12: 2020-2021学年第一学期 | D12: 1 | E12: 1.0 | F12: 毕业生返校重新学习考试 | G12: 请考生于2024.03.12前联系文林老师（电话17760631557）参加考试 | H12: 体育馆

Sheet 签到册
A1: 行政班级 | B1: 学号 | C1: 姓名 | D1: 课程环节 | E1: 类型 | F1: 考试时间 | G1: 地点 | H1: 备注 | I1: 考生签到 | J1: 平时成绩 | K1: 卷面成绩 | L1: 综合成绩 | M1: 阅卷老师
A2: 2020学前教育（专）6 | B2: 19208896 | C2: 布次木机 | D2: [102941]大学语文 | E2: 毕业生返校重新学习考试 | F2: =VLOOKUP(D2,返校考试安排!B:G,6,0) -> 2024.03.08（周五）13:00-15:00 | G2: =VLOOKUP(D2,返校考试安排!B:H,7,0) -> D407
A3: 2019应用心理学1 | B3: 19101391 | C3: 褚珊珊 | D3: [423902]高等数学Ⅰ | E3: 毕业生返校重新学习考试 | F3: =VLOOKUP(D3,返校考试安排!B:G,6,0) -> 2024.03.08（周五）13:00-15:00 | G3: =VLOOKUP(D3,返校考试安排!B:H,7,0) -> D404
A4: 2019播音与主持艺术4 | B4: 19101192 | C4: 郭吉康 | D4: [080038]大学生职业素养与人生规划Ⅰ | E4: 毕业生返校重新学习考试 | F4: =VLOOKUP(D4,返校考试安排!B:G,6,0) -> 2024.03.08（周五）13:00-15:00 | G4: =VLOOKUP(D4,返校考试安排!B:H,7,0) -> D407
A5: 2019应用心理学1 | B5: 19106520 | C5: 何胜男 | D5: [133922]形势与政策Ⅱ | E5: 毕业生返校重新学习考试 | F5: =VLOOKUP(D5,返校考试安排!B:G,6,0) -> 2024.03.09（周六）18:00-20:00 | G5: =VLOOKUP(D5,返校考试安排!B:H,7,0) -> 英华在线
A6: 2020数字媒体应用技术（专）2 | B6: 202543020034 | C6: 江昊远 | D6: [135932]形势与政策Ⅲ | E6: 毕业生返校重新学习考试 | F6: =VLOOKUP(D6,返校考试安排!B:G,6,0) -> 2024.03.09（周六）18:00-20:00 | G6: =VLOOKUP(D6,返校考试安排!B:H,7,0) -> 英华在线
A7: 2020数字媒体应用技术（专）2 | B7: 202543020028 | C7: 李堃 | D7: [422901]高等数学Ⅰ | E7: 毕业生返校重新学习考试 | F7: =VLOOKUP(D7,返校考试安排!B:G,6,0) -> 2024.03.11（周一）09:00-11:00 | G7: =VLOOKUP(D7,返校考试安排!B:H,7,0) -> D301
A8: 2020数字媒体应用技术（专）2 | B8: 202543020028 | C8: 李堃 | D8: [422904]高等数学 | E8: 毕业生返校重新学习考试 | F8: =VLOOKUP(D8,返校考试安排!B:G,6,0) -> 2024.03.11（周一）15:20-17:20 | G8: =VLOOKUP(D8,返校考试安排!B:H,7,0) -> D402
A9: 2020数字媒体应用技术（专）2 | B9: 202543020028 | C9: 李堃 | D9: 大学外语（英语 普通专科）（综合） | E9: 毕业生返校重新学习考试 | F9: =VLOOKUP(D9,返校考试安排!B:G,6,0) -> 2024.03.11（周一）13:00-15:00 | G9: =VLOOKUP(D9,返校考试安排!B:H,7,0) -> D406
A10: 2020数字媒体应用技术（专）2 | B10: 202543020028 | C10: 李堃 | D10: [135932]形势与政策Ⅲ | E10: 毕业生返校重新学习考试 | F10: =VLOOKUP(D10,返校考试安排!B:G,6,0) -> 2024.03.09（周六）18:00-20:00 | G10: =VLOOKUP(D10,返校考试安排!B:H,7,0) -> 英华在线
A11: 2019会计学4 | B11: 201830015427 | C11: 刘钊 | D11: [143941]大学英语Ⅳ（一般本科） | E11: 毕业生返校重新学习考试 | F11: =VLOOKUP(D11,返校考试安排!B:G,6,0) -> 2024.03.08（周五）13:00-15:00 | G11: =VLOOKUP(D11,返校考试安排!B:H,7,0) -> D413
A12: 2020电子商务（专）1 | B12: 201817186143 | C12: 汤绪 | D12: [135932]形势与政策Ⅲ | E12: 毕业生返校重新学习考试 | F12: =VLOOKUP(D12,返校考试安排!B:G,6,0) -> 2024.03.09（周六）18:00-20:00 | G12: =VLOOKUP(D12,返校考试安排!B:H,7,0) -> 英华在线
A13: 2019风景园林1 | B13: 19105356 | C13: 王进 | D13: [423911]高等数学 | E13: 毕业生返校重新学习考试 | F13: =VLOOKUP(D13,返校考试安排!B:G,6,0) -> 2024.03.08（周五）13:00-15:00 | G13: =VLOOKUP(D13,返校考试安排!B:H,7,0) -> D404
... A15: 2020电子商务（专）1 | B15: 202542020053 | C15: 朱俊 | D15: [192911]体育Ⅰ | E15: 毕业生返校重新学习考试 | F15: =VLOOKUP(D15,返校考试安排!B:G,6,0) -> 请考生于2024.03.12前联系文林老师（电话17760631557）参加考试 | G15: =VLOOKUP(D15,返校考试安排!B:H,7,0) -> 体育馆

Sheet 准考证
A1: 学院 | B1: 班级 | C1: 学号 | D1: 姓名 | E1: 身份证号 | F1: 课程 | G1: 类型 | H1: 时间 | I1: 地点 | J1: 照片
