Workbook

Sheet 20级本科23-24-1重新学习报名数据
A1: 承担单位 | B1: 院(系)部 | C1: 年级 | D1: 专业 | E1: 行政班级 | F1: 学号 | G1: 姓名 | H1: 课程环节 | I1: 学分 | J1: 学年学期 | K1: 报名
A2: 文法学院 | B2: 文法学院 | C2: 2020 | D2: 汉语言文学2 | E2: 2020汉语言文学201 | F2: 201819010012 | G2: 冯小芙 | H2: [10301055]中外教育史（选修） | I2: 4.0 | J2: 2022-2023学年第二学期 | K2: 已报名
A3: 文法学院 | B3: 文法学院 | C3: 2020 | D3: 汉语言文学1 | E3: 2020汉语言文学104 | F3: 201818010693 | G3: 何雪艳 | H3: [10301101]多媒体教育技术 | I3: 2.0 | J3: 2023-2024学年第一学期 | K3: 已报名
A4: 文法学院 | B4: 文法学院 | C4: 2020 | D4: 汉语言文学1 | E4: 2020汉语言文学128 | F4: 203801022802 | G4: 黎兆天 | H4: [10301051]现代汉语专题（选修） | I4: 4.0 | J4: 2022-2023学年第二学期 | K4: 已报名
A5: 经济管理学院 | B5: 经济管理学院 | C5: 2020 | D5: 工商管理 | E5: 2020工商管理10 | F5: 203803031025 | G5: 赵宇科 | H5: [11324417]公共关系学 | I5: 2.0 | J5: 2023-2024学年第一学期 | K5: 已报名
A6: 经济管理学院 | B6: 经济管理学院 | C6: 2020 | D6: 工商管理 | E6: 2020工商管理10 | F6: 203803031104 | G6: 谢攀 | H6: [11324401]管理信息系统 | I6: 3.0 | J6: 2022-2023学年第二学期 | K6: 已报名
A7: 经济管理学院 | B7: 经济管理学院 | C7: 2020 | D7: 工商管理 | E7: 2020工商管理5 | F7: 203803030619 | G7: 冯柳淋 | H7: [11324011]国际物流与报关实务 | I7: 4.0 | J7: 2022-2023学年第二学期 | K7: 已报名
A8: 经济管理学院 | B8: 经济管理学院 | C8: 2020 | D8: 工商管理 | E8: 2020工商管理6 | F8: 203803030820 | G8: 王佳莉 | H8: [11324011]国际物流与报关实务 | I8: 4.0 | J8: 2022-2023学年第二学期 | K8: 已报名
A9: 经济管理学院 | B9: 经济管理学院 | C9: 2020 | D9: 工商管理 | E9: 2020工商管理6 | F9: 203803030824 | G9: 郑传锐 | H9: [11324011]国际物流与报关实务 | I9: 4.0 | J9: 2022-2023学年第二学期 | K9: 已报名
A10: 经济管理学院 | B10: 经济管理学院 | C10: 2020 | D10: 工商管理 | E10: 2020工商管理7 | F10: 203803030524 | G10: 秦勉 | H10: [11324005]组织设计与变革 | I10: 2.0 | J10: 2022-2023学年第二学期 | K10: 已报名
A11: 经济管理学院 | B11: 经济管理学院 | C11: 2020 | D11: 工商管理 | E11: 2020工商管理9 | F11: 203803030915 | G11: 瞿皓 | H11: [11324404]创业基础 | I11: 2.0 | J11: 2022-2023学年第二学期 | K11: 已报名
A12: 经济管理学院 | B12: 经济管理学院 | C12: 2020 | D12: 旅游管理 | E12: 2020旅游管理10 | F12: 203803081029 | G12: 索郎泽让 | H12: [11326404]旅游市场营销 | I12: 3.0 | J12: 2022-2023学年第二学期 | K12: 已报名
... A177: 建筑学院 | B177: 建筑学院 | C177: 2020 | D177: 风景园林 | E177: 2020风景园林6 | F177: 203809020628 | G177: 张文鹏 | H177: [28303037]园林工程技术 | I177: 2.0 | J177: 2022-2023学年第二学期 | K177: 已报名

Sheet 公共课名单
A1: 承担单位 | B1: 院(系)部 | C1: 年级 | D1: 专业 | E1: 行政班级 | F1: 学号 | G1: 姓名 | H1: 课程环节 | I1: 学分 | J1: 学年学期 | K1: 课程类型
A2: 素质教育中心 | B2: 传媒与演艺学院 | C2: 2020 | D2: 播音与主持艺术 | E2: 2020播音与主持艺术10 | F2: 202304010362 | G2: 鄢梦莎 | H2: [080053]大学生职业素养与人生规划Ⅵ | I2: 0.5 | J2: 2022-2023学年第二学期 | K2: 公共课
A3: 素质教育中心 | B3: 传媒与演艺学院 | C3: 2020 | D3: 表演 | E3: 2020表演3 | F3: 202305010043 | G3: 徐子龙 | H3: [080053]大学生职业素养与人生规划Ⅵ | I3: 0.5 | J3: 2022-2023学年第二学期 | K3: 公共课
A4: 信息工程学院 | B4: 信息工程学院 | C4: 2020 | D4: 电子商务 | E4: 2020电子商务3 | F4: 203806030307 | G4: 弓郅贤 | H4: [17301050]经济数学 | I4: 4.0 | J4: 2022-2023学年第二学期 | K4: 公共课
A5: 信息工程学院 | B5: 信息工程学院 | C5: 2020 | D5: 电子商务 | E5: 2020电子商务3 | F5: 203806030308 | G5: 何龙胜 | H5: [17301050]经济数学 | I5: 4.0 | J5: 2022-2023学年第二学期 | K5: 公共课
A6: 信息工程学院 | B6: 信息工程学院 | C6: 2020 | D6: 电子商务 | E6: 2020电子商务3 | F6: 203806030322 | G6: 万京 | H6: [17301050]经济数学 | I6: 4.0 | J6: 2022-2023学年第二学期 | K6: 公共课
A7: 信息工程学院 | B7: 信息工程学院 | C7: 2020 | D7: 电子商务 | E7: 2020电子商务3 | F7: 203806030323 | G7: 王杰 | H7: [17301050]经济数学 | I7: 4.0 | J7: 2022-2023学年第二学期 | K7: 公共课
A8: 信息工程学院 | B8: 信息工程学院 | C8: 2020 | D8: 电子商务 | E8: 2020电子商务3 | F8: 203806030330 | G8: 杨国艺 | H8: [17301050]经济数学 | I8: 4.0 | J8: 2022-2023学年第二学期 | K8: 公共课
A9: 素质教育中心 | B9: 教育学院 | C9: 2020 | D9: 应用心理学 | E9: 2020应用心理学3 | F9: 202423010067 | G9: 李九龙 | H9: [080053]大学生职业素养与人生规划Ⅵ | I9: 0.5 | J9: 2022-2023学年第二学期 | K9: 公共课
A10: 外国语学院 | B10: 建筑学院 | C10: 2020 | D10: 建筑学 | E10: 2020建筑学1 | F10: 202129010015 | G10: 陈宇航 | H10: [143936]大学外语Ⅲ（英语 一般本科） | I10: 4.0 | J10: 2021-2022学年第一学期 | K10: 公共课 | L10: 交换生课程
A11: 外国语学院 | B11: 建筑学院 | C11: 2020 | D11: 建筑学 | E11: 2020建筑学1 | F11: 202129010025 | G11: 殷世霖 | H11: [143936]大学外语Ⅲ（英语 一般本科） | I11: 4.0 | J11: 2021-2022学年第一学期 | K11: 公共课 | L11: 交换生课程
A12: 外国语学院 | B12: 建筑学院 | C12: 2020 | D12: 建筑学 | E12: 2020建筑学1 | F12: 202129010042 | G12: 李侨 | H12: [143936]大学外语Ⅲ（英语 一般本科） | I12: 4.0 | J12: 2021-2022学年第一学期 | K12: 公共课 | L12: 交换生课程
A13: 体育与医护学院 | B13: 建筑学院 | C13: 2020 | D13: 建筑学 | E13: 2020建筑学2 | F13: 202129010034 | G13: 曾程波 | H13: [J190000101]体育Ⅲ | I13: 1.0 | J13: 2021-2022学年第一学期 | K13: 公共课 | L13: 交换生课程
A14: 经济管理学院 | B14: 经济管理学院 | C14: 2020 | D14: 工商管理 | E14: 2020工商管理4 | F14: 201812025330 | G14: 漆材坤 | H14: [423909]经济数学Ⅱ | I14: 6 | J14: 2018-2019学年第二学期 | K14: 公共课
A15: 外国语学院 | B15: 经济管理学院 | C15: 2020 | D15: 工商管理 | E15: 2020工商管理4 | F15: 201812025330 | G15: 漆材坤 | H15: [143941]大学英语Ⅳ（一般本科） | I15: 4.0 | J15: 2019-2020学年第二学期 | K15: 公共课

Sheet 上课安排
A1: 承担单位 | B1: 年级 | C1: 专业 | D1: 课程环节 | E1: 学分 | F1: 学年学期 | G1: 类型 | H1: 人数 | I1: 任课老师 | J1: 地点 | K1: 时间 | L1: 课时量 | M1: 考试形式 | N1: 成绩比例 | O1: 备注（例：重修班QQ群号、老师联系方式）
A2: 素质教育中心 | B2: 2020 | C2: 公共课 | D2: [080053]大学生职业素养与人生规划Ⅵ | E2: 0.5 | F2: 2022-2023学年第二学期 | G2: 重新学习 | H2: 3 | I2: 叶召定 | J2: 线上 | K2: 2023.12.26下午第6节 | L2: 1 | M2: 开卷 | N2: 平时成绩60％+考试成绩40％ | O2: QQ群号178567712，老师QQ382131667
A3: 信息工程学院 | B3: 2020 | C3: 公共课 | D3: [17301050]经济数学 | E3: 4.0 | F3: 2022-2023学年第二学期 | G3: 重新学习 | H3: 5 | I3: 宋建军 | J3: 线上 | K3: 12月26日5-10节，12月27日5-8节 | L3: 10 | M3: 闭卷 | N3: 平时40%，考试60% | O3: 宋建军18702877397（下课时间联系）
A4: 外国语学院 | B4: 2020 | C4: 公共课 | D4: [143936]大学外语Ⅲ（英语 一般本科） | E4: 4.0 | F4: 2021-2022学年第一学期 | G4: 重新学习 | H4: 3 | I4: 郑红樱 | J4: 腾讯会议 | K4: 12月23日19：00-21：25 | L4: 3 | N4: 平时50%，卷面50% | O4: QQ群号：759427687 电话：13880404403
A5: 体育与医护学院 | B5: 2020 | C5: 公共课 | D5: [J190000101]体育Ⅲ | E5: 1.0 | F5: 2021-2022学年第一学期 | G5: 重新学习 | H5: 1 | I5: 徐欢 | J5: 腾讯会议955961622 密码：606591 | K5: 45287 | L5: 1 | M5: 实践考试 | N5: 平时40%、期末60% | O5: 18408210776
A6: 经济管理学院 | B6: 2020 | C6: 公共课 | D6: [423909]经济数学Ⅱ | E6: 6 | F6: 2018-2019学年第二学期 | G6: 重新学习 | H6: 1 | I6: 刘小舟 | J6: 线上（单独辅导） | K6: 12月26日5-8节 | L6: 4 | M6: 闭卷 | N6: 平时40%，考试60% | O6: 刘小舟18080954498（下课时间联系）
A7: 外国语学院 | B7: 2020 | C7: 公共课 | D7: [143941]大学英语Ⅳ（一般本科） | E7: 4.0 | F7: 2019-2020学年第二学期 | G7: 重新学习 | H7: 1 | I7: 王琴 | J7: 腾讯会议9992695458 | K7: 12月25日 9点—11：20 | L7: 3 | M7: 闭卷 | N7: 平时50%，卷面50% | O7: 电话：13458550419

Sheet 考试安排
A1: 承担单位 | B1: 年级 | C1: 层次 | D1: 课程环节 | E1: 人数 | F1: 学分 | G1: 学年学期 | H1: 类型 | I1: 考试时间 | J1: 考试地点 | K1: 备注
A2: 素质教育中心 | B2: 2020 | C2: 本科 | D2: [080053]大学生职业素养与人生规划Ⅵ | E2: 3 | F2: 0.5 | G2: 2022-2023学年第二学期 | H2: 重新学习 | I2: 2024.01.04（周四）9:00-11:00 | J2: 线上 | K2: 请考生提前加入QQ群：122681805 #腾讯会议：843-745-554
A3: 信息工程学院 | B3: 2020 | C3: 本科 | D3: [17301050]经济数学 | E3: 5 | F3: 4.0 | G3: 2022-2023学年第二学期 | H3: 重新学习 | I3: 2024.01.04（周四）9:00-11:00 | J3: 线上 | K3: 请考生提前加入QQ群：277636393 #腾讯会议：629-298-046
A4: 外国语学院 | B4: 2020 | C4: 本科 | D4: [143936]大学外语Ⅲ（英语 一般本科） | E4: 3 | F4: 4.0 | G4: 2021-2022学年第一学期 | H4: 重新学习 | I4: 2024.01.04（周四）9:00-11:00 | J4: C308
A5: 经济管理学院 | B5: 2020 | C5: 本科 | D5: [423909]经济数学Ⅱ | E5: 1 | F5: 6 | G5: 2018-2019学年第二学期 | H5: 重新学习 | I5: 2024.01.04（周四）9:00-11:00 | J5: C309
A6: 外国语学院 | B6: 2020 | C6: 本科 | D6: [143941]大学英语Ⅳ（一般本科） | E6: 1 | F6: 4.0 | G6: 2019-2020学年第二学期 | H6: 重新学习 | I6: 2024.01.04（周四）13:00-15:00 | J6: C408
A7: 体育与医护学院 | B7: 2020 | C7: 本科 | D7: [J190000101]体育Ⅲ | E7: 1 | F7: 1.0 | G7: 2021-2022学年第一学期 | H7: 重新学习 | I7: 请考生于1月4日前联系任课老师徐欢（电话：18408210776）参加考试 | J7: 体育馆

Sheet 签到册
A1: 班级 | B1: 学号 | C1: 姓名 | D1: 课程环节 | E1: 类型 | F1: 时间 | G1: 地点 | H1: 考生签到 | I1: 备注 | J1: 平时成绩 | K1: 卷面成绩 | L1: 综合成绩 | M1: 阅卷老师
A2: 2020播音与主持艺术10 | B2: 202304010362 | C2: 鄢梦莎 | D2: [080053]大学生职业素养与人生规划Ⅵ | E2: 重新学习 | F2: =VLOOKUP(D2,考试安排!D:I,6,0) -> 2024.01.04（周四）9:00-11:00 | G2: 请考提前加入QQ群：122681805 #腾讯会议：843-745-554 | I2: =COUNTIFS(B:B,B2,F:F,F2) -> 1
A3: 2020表演3 | B3: 202305010043 | C3: 徐子龙 | D3: [080053]大学生职业素养与人生规划Ⅵ | E3: 重新学习 | F3: =VLOOKUP(D3,考试安排!D:I,6,0) -> 2024.01.04（周四）9:00-11:00 | G3: 请考提前加入QQ群：122681805 #腾讯会议：843-745-554 | I3: =COUNTIFS(B:B,B3,F:F,F3) -> 1
A4: 2020应用心理学3 | B4: 202423010067 | C4: 李九龙 | D4: [080053]大学生职业素养与人生规划Ⅵ | E4: 重新学习 | F4: =VLOOKUP(D4,考试安排!D:I,6,0) -> 2024.01.04（周四）9:00-11:00 | G4: 请考提前加入QQ群：122681805 #腾讯会议：843-745-554 | I4: =COUNTIFS(B:B,B4,F:F,F4) -> 1
A5: 2020电子商务3 | B5: 203806030307 | C5: 弓郅贤 | D5: [17301050]经济数学 | E5: 重新学习 | F5: =VLOOKUP(D5,考试安排!D:I,6,0) -> 2024.01.04（周四）9:00-11:00 | G5: 请考生提前加入QQ群：277636393 #腾讯会议：629-298-046 | I5: =COUNTIFS(B:B,B5,F:F,F5) -> 1
A6: 2020电子商务3 | B6: 203806030308 | C6: 何龙胜 | D6: [17301050]经济数学 | E6: 重新学习 | F6: =VLOOKUP(D6,考试安排!D:I,6,0) -> 2024.01.04（周四）9:00-11:00 | G6: 请考生提前加入QQ群：277636393 #腾讯会议：629-298-047 | I6: =COUNTIFS(B:B,B6,F:F,F6) -> 1
A7: 2020电子商务3 | B7: 203806030322 | C7: 万京 | D7: [17301050]经济数学 | E7: 重新学习 | F7: =VLOOKUP(D7,考试安排!D:I,6,0) -> 2024.01.04（周四）9:00-11:00 | G7: 请考生提前加入QQ群：277636393 #腾讯会议：629-298-048 | I7: =COUNTIFS(B:B,B7,F:F,F7) -> 1
A8: 2020电子商务3 | B8: 203806030323 | C8: 王杰 | D8: [17301050]经济数学 | E8: 重新学习 | F8: =VLOOKUP(D8,考试安排!D:I,6,0) -> 2024.01.04（周四）9:00-11:00 | G8: 请考生提前加入QQ群：277636393 #腾讯会议：629-298-049 | I8: =COUNTIFS(B:B,B8,F:F,F8) -> 1
A9: 2020电子商务3 | B9: 203806030330 | C9: 杨国艺 | D9: [17301050]经济数学 | E9: 重新学习 | F9: =VLOOKUP(D9,考试安排!D:I,6,0) -> 2024.01.04（周四）9:00-11:00 | G9: 请考生提前加入QQ群：277636393 #腾讯会议：629-298-050 | I9: =COUNTIFS(B:B,B9,F:F,F9) -> 1
A10: 2020建筑学1 | B10: 202129010015 | C10: 陈宇航 | D10: [143936]大学外语Ⅲ（英语 一般本科） | E10: 重新学习 | F10: =VLOOKUP(D10,考试安排!D:I,6,0) -> 2024.01.04（周四）9:00-11:00 | G10: =VLOOKUP(D10,考试安排!D:J,7,0) -> C308 | I10: =COUNTIFS(B:B,B10,F:F,F10) -> 1
A11: 2020建筑学1 | B11: 202129010025 | C11: 殷世霖 | D11: [143936]大学外语Ⅲ（英语 一般本科） | E11: 重新学习 | F11: =VLOOKUP(D11,考试安排!D:I,6,0) -> 2024.01.04（周四）9:00-11:00 | G11: =VLOOKUP(D11,考试安排!D:J,7,0) -> C308 | I11: =COUNTIFS(B:B,B11,F:F,F11) -> 1
A12: 2020建筑学1 | B12: 202129010042 | C12: 李侨 | D12: [143936]大学外语Ⅲ（英语 一般本科） | E12: 重新学习 | F12: =VLOOKUP(D12,考试安排!D:I,6,0) -> 2024.01.04（周四）9:00-11:00 | G12: =VLOOKUP(D12,考试安排!D:J,7,0) -> C308 | I12: =COUNTIFS(B:B,B12,F:F,F12) -> 1
A13: 2020建筑学2 | B13: 202129010034 | C13: 曾程波 | D13: [J190000101]体育Ⅲ | E13: 重新学习 | F13: =VLOOKUP(D13,考试安排!D:I,6,0) -> 请考生于1月4日前联系任课老师徐欢（电话：18408210776）参加考试 | G13: =VLOOKUP(D13,考试安排!D:J,7,0) -> 体育馆 | I13: =COUNTIFS(B:B,B13,F:F,F13) -> 1
A14: 2020工商管理4 | B14: 201812025330 | C14: 漆材坤 | D14: [423909]经济数学Ⅱ | E14: 重新学习 | F14: =VLOOKUP(D14,考试安排!D:I,6,0) -> 2024.01.04（周四）9:00-11:00 | G14: =VLOOKUP(D14,考试安排!D:J,7,0) -> C309 | I14: =COUNTIFS(B:B,B14,F:F,F14) -> 1
A15: 2020工商管理4 | B15: 201812025330 | C15: 漆材坤 | D15: [143941]大学英语Ⅳ（一般本科） | E15: 重新学习 | F15: =VLOOKUP(D15,考试安排!D:I,6,0) -> 2024.01.04（周四）13:00-15:00 | G15: =VLOOKUP(D15,考试安排!D:J,7,0) -> C408 | I15: =COUNTIFS(B:B,B15,F:F,F15) -> 1
