Workbook

Sheet 证书信息
A1: 第一至四批447个职业技能等级证书信息
A2: 序号 | B2: 专业大类 | C2: 职业技能等级证书 | D2: 培训评价组织 | E2: 证书批次 | F2: 备注
A3: 1 | B3: 财经商贸大类 | C3: 财务共享服务职业技能等级证书 | D3: 北京东大正保科技有限公司 | E3: 第三批
A4: 2 | B4: 财经商贸大类 | C4: 财务数字化应用职业技能等级证书 | D4: 新道科技股份有限公司 | E4: 第三批
A5: 3 | B5: 财经商贸大类 | C5: 大数据财务分析职业技能等级证书 | D5: 北京首冠教育科技集团有限公司 | E5: 第三批
A6: 4 | B6: 财经商贸大类 | C6: 电子商务客户服务职业技能等级证书 | D6: 江苏京东信息技术有限公司 | E6: 第四批
A7: 5 | B7: 财经商贸大类 | C7: 电子商务数据分析职业技能等级证书 | D7: 北京博导前程信息技术股份有限公司 | E7: 第二批
A8: 6 | B8: 财经商贸大类 | C8: 短视频数字化运营职业技能等级证书 | D8: 杭州遥望网络科技有限公司 | E8: 第四批
A9: 7 | B9: 财经商贸大类 | C9: 个税计算职业技能等级证书 | D9: 浙江衡信教育科技有限公司 | E9: 第四批
A10: 8 | B10: 财经商贸大类 | C10: 供应链数据分析职业技能等级证书 | D10: 物产中大集团股份有限公司 | E10: 第四批
A11: 9 | B11: 财经商贸大类 | C11: 供应链运营职业技能等级证书 | D11: 北京中物联物流采购培训中心 | E11: 第四批
A12: 10 | B12: 财经商贸大类 | C12: 供应链智能融资技术应用职业技能等级证书 | D12: 中企云链（北京）金融信息服务有限公司 | E12: 第四批
A13: 11 | B13: 财经商贸大类 | C13: 广告审查职业技能等级证书 | D13: 中广协广告信息文化传播有限责任公司 | E13: 第四批
A14: 12 | B14: 财经商贸大类 | C14: 呼叫中心客户服务与管理职业技能等级证书 | D14: 北京华唐中科科技集团有限公司 | E14: 第三批
... A449: 447 | B449: 资源环境与安全大类 | C449: 珠宝玉石鉴定职业技能等级证书 | D449: 中宝评（北京）教育科技有限公司 | E449: 第三批

Sheet 联系方式
A1: 第一至四批X证书对应培训评价组织联系方式
A2: 序号 | B2: 证书批次 | C2: 职业技能等级证书 | D2: 培训评价组织 | E2: 专业大类 | F2: 项目负责人 | G2: 联系方式 | H2: 联系人 | I2: 联系方式 | J2: 广西区联系人及方式 | K2: 电子邮箱 | L2: 备注
A3: 1 | B3: 第一批 | C3: 建筑信息模型（BIM）职业技能等级证书 | D3: 廊坊市中科建筑产业化创新研究中心 | E3: =VLOOKUP(C3,[1]证书及专业大类!$C:$F,4,FALSE) -> 土木建筑大类 | F3: 胡晓光 | G3: 13681111335 | H3: 张建奇 | I3: 13366465781 | J3: 刘海彬：13657713610 | K3: clppCN@126.com
A4: 2 | B4: 第一批 | C4: Web前端开发职业技能等级证书 | D4: 工业和信息化部教育与考试中心 | E4: =VLOOKUP(C4,[1]证书及专业大类!$C:$F,4,FALSE) -> 电子信息大类 | F4: 龚玉函 | G4: 010-68607719 13801328764 | H4: 谭志彬 | J4: 王欣欣 13901091552 010-68607718 | K4: wangxx@ceiaec.org
A5: 3 | B5: 第一批 | C5: 老年照护职业技能等级证书 | D5: 北京中福长者文化科技有限公司 | E5: =VLOOKUP(C5,[1]证书及专业大类!$C:$F,4,FALSE) -> 公共管理与服务大类 | F5: 姜小玲 | G5: 13051681116 | H5: 魏 兵 | J5: 刘佳佳13737136997 13100517071 | K5: 1681116@163.com，bjzch2002@sohu.com
A6: 4 | B6: 第一批 | C6: 物流管理职业技能等级证书 | D6: 北京中物联物流采购培训中心 | E6: =VLOOKUP(C6,[1]证书及专业大类!$C:$F,4,FALSE) -> 交通运输大类 | F6: 研学 | G6: 13699204203 | H6: 郭肇明 | J6: 马赛13521372616 | K6: x@clpp.org.cn clppcn@126.com
A7: 5 | B7: 第一批 | C7: 汽车运用与维修职业技能等级证书 | D7: 北京中车行高新技术有限公司 | E7: =VLOOKUP(C7,[1]证书及专业大类!$C:$F,4,FALSE) -> 交通运输大类 | F7: 陈学峰 | G7: 13051681116 | H7: 张萌 | I7: 010-84813985 | J7: 柏秀秀13522072573 | K7: tangf@zch713.com qichezhengshu_1x@alyun.com
A8: 6 | B8: 第一批 | C8: 智能新能源汽车职业技能等级证书 | D8: 北京中车行高新技术有限公司 | E8: =VLOOKUP(C8,[1]证书及专业大类!$C:$F,4,FALSE) -> 交通运输大类 | F8: 陈学峰 | G8: 13051681116 | H8: 张萌 | I8: 010-84813985 | J8: 柏秀秀13522072573 | K8: qichezhengshu_1x@alyun.com
A9: 7 | B9: 第二批 | C9: 电子商务数据分析职业技能等级证书 | D9: 北京博导前程信息技术股份有限公司 | E9: =VLOOKUP(C9,[1]证书及专业大类!$C:$F,4,FALSE) -> 财经商贸大类 | F9: 秦刚强 | G9: 15572543571 | H9: 陈礼科 | I9: 17789127307 | J9: 黄阳勇 13519127575 | K9: huangyy@bjbodao.com
A10: 8 | B10: 第二批 | C10: 网店运营推广职业技能等级证书 | D10: 北京鸿科经纬科技有限公司 | E10: =VLOOKUP(C10,[1]证书及专业大类!$C:$F,4,FALSE) -> 财经商贸大类 | F10: 何海阳 | G10: 13501289641 | H10: 张强林 | I10: 18663960693 | J10: 何海阳（具体业务 张强林（会议等） | K10: college@hotmatrix.cn
A11: 9 | B11: 第二批 | C11: 工业机器人操作与运维职业技能等级证书 | D11: 北京新奥时代科技有限责任公司 | E11: =VLOOKUP(C11,[1]证书及专业大类!$C:$F,4,FALSE) -> 装备制造大类 | F11: 陈穆珩 | G11: 13911364024 | H11: 赖文华 | I11: 18600819944 | J11: 陈穆珩13581772309 | K11: guoyc@cailian.net，huyp@cailian.net
A12: 10 | B12: 第二批 | C12: 工业机器人应用编程职业技能等级证书 | D12: 北京赛育达科教有限责任公司 | E12: =VLOOKUP(C12,[1]证书及专业大类!$C:$F,4,FALSE) -> 装备制造大类 | F12: 王志强 | G12: 13552969054 | H12: 耿东川 | I12: 13255690054 | J12: 陈飞15201006956 | K12: jinanygdj@163.com
A13: 11 | B13: 第二批 | C13: 特殊焊接技术职业技能等级证书 | D13: 中船舰客教育科技（北京）有限公司 | E13: =VLOOKUP(C13,[1]证书及专业大类!$C:$F,4,FALSE) -> 装备制造大类 | F13: 夏海滨 | G13: 13911015054 | H13: 高桂欣 | I13: 18500301628 | J13: 田野13817390421 | K13: tianye@namaedu.com
A14: 12 | B14: 第二批 | C14: 智能财税职业技能等级证书 | D14: 中联集团教育科技有限公司 | E14: =VLOOKUP(C14,[1]证书及专业大类!$C:$F,4,FALSE) -> 财经商贸大类 | F14: 郭玉成 | G14: 13581841651 | H14: 胡彦平 | I14: 18600819944 | J14: 杨春燕13647719399 | K14: fuzhijiaoyu@qq.com
A15: 13 | B15: 第二批 | C15: 母婴护理职业技能等级证书 | D15: 济南阳光大姐服务有限责任公司 | E15: =VLOOKUP(C15,[1]证书及专业大类!$C:$F,4,FALSE) -> 公共管理与服务大类 | F15: 李 凯 | G15: 15950589888 | H15: 徐庆振 | I15: 15301523311 | J15: 刘洪建15562675661 | K15: cloudskill@cetc55.net
A16: 14 | B16: 第二批 | C16: 传感网应用开发职业技能等级证书 | D16: 北京新大陆时代教育科技有限公司 | E16: =VLOOKUP(C16,[1]证书及专业大类!$C:$F,4,FALSE) -> 电子信息大类 | F16: 林世舒 | G16: 18106065600 | H16: 邓 立 | I16: 13366465781 | J16: 黄乙芳13768303405 | K16: 511470041@qq.com
A17: 15 | B17: 第二批 | C17: 失智老年人照护职业技能等级证书 | D17: 北京中民福祉教育科技有限责任公司 | E17: =VLOOKUP(C17,[1]证书及专业大类!$C:$F,4,FALSE) -> 公共管理与服务大类 | F17: 杨根来 | G17: 17778170873 | H17: 帅一鸣 | I17: 19948264649 | J17: 帅一鸣19948264649 | K17: fuzhijiaoyu@126.com
A18: 16 | B18: 第二批 | C18: 云计算平台运维与开发职业技能等级证书 | D18: 南京第五十五所技术开发有限公司 | E18: =VLOOKUP(C18,[1]证书及专业大类!$C:$F,4,FALSE) -> 电子信息大类 | F18: 余云峰 | G18: 133 0158 4388 | H18: 顾旭峰 | I18: 13522763212 | J18: 余云峰133 0158 4388 | K18: fuzhijiaoyu@126.com
A19: 17 | B19: 第三批 | C19: 大数据财务分析职业技能等级证书 | D19: 北京首冠教育科技集团有限公司 | E19: =VLOOKUP(C19,[1]证书及专业大类!$C:$F,4,FALSE) -> 财经商贸大类 | F19: 金思达 | G19: 15066870881 | H19: 贾晓航 | I19: 18739999866 | J19: 贾老师18701099332 | K19: xiaohanfeng@shouguanedu.cn
A20: 18 | B20: 第三批 | C20: 垃圾焚烧发电运行与维护职业技能等级证书 | D20: 博努力（北京）仿真技术有限公司 | E20: =VLOOKUP(C20,[1]证书及专业大类!$C:$F,4,FALSE) -> 能源动力与材料大类 | F20: 王廷举 | G20: 13581984089 | H20: 王小亮 | I20: 13651329959 | J20: 王刚15324910303 | K20: bernouly@126.com
A21: 19 | B21: 第三批 | C21: 大数据应用开发（JAVA）职业技能等级证书 | D21: 国信蓝桥教育科技（杭州）股份有限公司（原国信蓝桥教育科技（北京）股份有限公司） | E21: =VLOOKUP(C21,[1]证书及专业大类!$C:$F,4,FALSE) -> 电子信息大类 | F21: 单宝军 | G21: 18710095276 | H21: 单宝军 | I21: 18710095276 | J21: 刘春平18611393009 | K21: X@lanqiao.org
A22: 20 | B22: 第三批 | C22: 10千伏不停电作业职业技能等级证书 | D22: 广东南方电力科学研究院有限公司 | E22: =VLOOKUP(C22,[1]证书及专业大类!$C:$F,4,FALSE) -> 能源动力与材料大类 | F22: 蚁毓菁 | G22: 020-37784849 13710122105 | H22: 周雪梅 | I22: 18826436311 | J22: 莫智英 13802541367 | K22: 31919813@qq.com
A23: 21 | B23: 第三批 | C23: 数字化管理会计职业技能等级证书 | D23: 上海管会教育培训有限公司 | E23: =VLOOKUP(C23,[1]证书及专业大类!$C:$F,4,FALSE) -> 财经商贸大类 | F23: 吴骏 | G23: 13916023918 | H23: 黄成金 | I23: 15000712355 | J23: 李华鑫19910226730 | K23: 2393139282@qq.com
A24: 22 | B24: 第三批 | C24: 研学旅行策划与管理(EEPM)职业技能等级证书 | D24: 亲子猫（北京）国际教育科技有限公司 | E24: =VLOOKUP(C24,[1]证书及专业大类!$C:$F,4,FALSE) -> 旅游大类 | F24: 魏巴德 | G24: 18513127528 | H24: 邓青 | I24: 13910526098 | J24: 陈治波15810238841 | K24: dengqing@qinzimao.cn
A25: 23 | B25: 第三批 | C25: 光伏电站运维职业技能等级证书 | D25: 浙江瑞亚能源科技有限公司 | E25: =VLOOKUP(C25,[1]证书及专业大类!$C:$F,4,FALSE) -> 能源动力与材料大类 | F25: 桑宁如 | G25: 13601308127 | H25: 刘文斌 | I25: 15757124781 | J25: 15802912683 | K25: xc@rheaeco.com
A26: 24 | B26: 第三批 | C26: 5G移动网络运维职业技能等级证书 | D26: 北京华晟经世信息技术股份有限公司（原北京华晟经世信息技术有限公司） | E26: =VLOOKUP(C26,[1]证书及专业大类!$C:$F,4,FALSE) -> 电子信息大类 | F26: 张煜 | G26: 18911093378 | H26: 徐武 | I26: 13602764693 | J26: 广西 杨学辉18565698797 | K26: xu.wu@huatec.com
A27: 25 | B27: 第三批 | C27: 呼叫中心客户服务与管理职业技能等级证书 | D27: 北京华唐中科科技集团有限公司 | E27: =VLOOKUP(C27,[1]证书及专业大类!$C:$F,4,FALSE) -> 财经商贸大类 | F27: 宋庆东 | G27: 18611180040 | H27: 赵广明 | I27: 18611218523 | J27: 赵广明 18611218523 | K27: 317821546@qq.com
A28: 26 | B28: 第三批 | C28: 矿山开采数字技术应用职业技能等级证书 | D28: 北京诺斐释真管理咨询有限公司 | E28: =VLOOKUP(C28,[1]证书及专业大类!$C:$F,4,FALSE) -> 资源环境与安全大类 | F28: 祝丽华 | G28: 18600464068 | H28: 马 月 | I28: 17801003807 | J28: 马 月17801003807 | K28: 2454965264@qq.com
A29: 27 | B29: 第三批 | C29: 冶金机电设备点检职业技能等级证书 | D29: 北京诺斐释真管理咨询有限公司 | E29: =VLOOKUP(C29,[1]证书及专业大类!$C:$F,4,FALSE) -> 装备制造大类 | F29: 祝丽华 | G29: 18600464068 | H29: 马 月 | I29: 17801003807
A30: 28 | B30: 第三批 | C30: 城市轨道交通乘务职业技能等级证书 | D30: 广州轨道教育科技股份有限公司（原广州城市轨道交通培训学院股份有限公司） | E30: =VLOOKUP(C30,[1]证书及专业大类!$C:$F,4,FALSE) -> 交通运输大类 | F30: 卞科 | G30: 13609797502 | H30: 刘超 | I30: 15989207290 | K30: liuchao5@gzmtr.com
A31: 29 | B31: 第三批 | C31: 城市轨道交通站务职业技能等级证书 | D31: 广州轨道教育科技股份有限公司（原广州城市轨道交通培训学院股份有限公司） | E31: =VLOOKUP(C31,[1]证书及专业大类!$C:$F,4,FALSE) -> 交通运输大类 | H31: 向启然 | I31: 13802408283 | K31: xiangqiran1@gzmtr.com
A32: 30 | B32: 第三批 | C32: 幼儿照护职业技能等级证书 | D32: 湖南金职伟业母婴护理有限公司 | E32: =VLOOKUP(C32,[1]证书及专业大类!$C:$F,4,FALSE) -> 教育与体育大类 | F32: 潘建明 | G32: 13755055541 | H32: 李文丽 | I32: 18175117893 | J32: 李文丽18175117893 | K32: 1457889183@qq.com
A33: 31 | B33: 第三批 | C33: 数控车铣加工职业技能等级证书 | D33: 武汉华中数控股份有限公司 | E33: =VLOOKUP(C33,[1]证书及专业大类!$C:$F,4,FALSE) -> 装备制造大类 | F33: 宁柯 | G33: 13886185106 | H33: 韩力 | I33: 18040538803 | J33: 宁柯138 8618 5106 | K33: 13886185106@163.com；289915904@qq.com
A34: 32 | B34: 第三批 | C34: 多轴数控加工职业技能等级证书 | D34: 武汉华中数控股份有限公司 | E34: =VLOOKUP(C34,[1]证书及专业大类!$C:$F,4,FALSE) -> 装备制造大类 | J34: 韩力18040538803
A35: 33 | B35: 第三批 | C35: 虚拟现实应用开发职业技能等级证书 | D35: 北京新奥时代科技有限责任公司 | E35: =VLOOKUP(C35,[1]证书及专业大类!$C:$F,4,FALSE) -> 电子信息大类 | F35: 谭志彬 | G35: 13801003561 | H35: 龚玉涵 | I35: 010-68607719 | J35: 田燕燕13661386189 | K35: shch@ceiaec.org
A36: 34 | B36: 第三批 | C36: 云计算开发与运维职业技能等级证书 | D36: 阿里巴巴（中国）有限公司 | E36: =VLOOKUP(C36,[1]证书及专业大类!$C:$F,4,FALSE) -> 电子信息大类 | F36: 曹海坤 | G36: 18851503365 | H36: 尹红梅 | I36: 15867421427 | J36: 陆茵 18077770820 | K36: luyin.lu@alibaba-inc.com
A37: 35 | B37: 第三批 | C37: 大数据分析与应用职业技能等级证书 | D37: 阿里巴巴（中国）有限公司 | E37: =VLOOKUP(C37,[1]证书及专业大类!$C:$F,4,FALSE) -> 电子信息大类
A38: 36 | B38: 第三批 | C38: 跨境电商B2B数据运营职业技能等级证书 | D38: 阿里巴巴（中国）教育科技有限公司 | E38: =VLOOKUP(C38,[1]证书及专业大类!$C:$F,4,FALSE) -> 财经商贸大类 | F38: 孙孟洋 | G38: 18612708721 | H38: 王娟 | I38: 17744566186 | J38: 孙孟洋18612708721/王娟17744566186 | K38: wangj@niso.edu.cn
A39: 37 | B39: 第三批 | C39: 人身保险理赔职业技能等级证书 | D39: 中保教育咨询（北京）有限公司（原中保慧杰教育咨询(北京)有限公司） | E39: =VLOOKUP(C39,[1]证书及专业大类!$C:$F,4,FALSE) -> 财经商贸大类 | F39: 夏芳 | G39: 18601060509 | H39: 张明铭 | I39: 18611871988 | J39: 张明铭18611871988 | K39: stephen_m_zhang@163.com；lvjiahan@iachina.cn
A40: 38 | B40: 第三批 | C40: 精算实务分析职业技能等级证书 | D40: 中国精算师协会 | E40: =VLOOKUP(C40,[1]证书及专业大类!$C:$F,4,FALSE) -> 财经商贸大类 | F40: 于璐 | G40: 15810359639 | H40: 李佳洁 | I40: 18810578977 | J40: 李佳洁18810578977 | K40: lijj@e-caa.org.cn； yul@e-caa.org.cn
...
